BEGIN:VCALENDAR
VERSION:2.0
PRODID:-//Archers of Raunds - ECPv6.15.17//NONSGML v1.0//EN
CALSCALE:GREGORIAN
METHOD:PUBLISH
X-ORIGINAL-URL:https://archersofraunds.co.uk
X-WR-CALDESC:Events for Archers of Raunds
REFRESH-INTERVAL;VALUE=DURATION:PT1H
X-Robots-Tag:noindex
X-PUBLISHED-TTL:PT1H
BEGIN:VTIMEZONE
TZID:UTC
BEGIN:STANDARD
TZOFFSETFROM:+0000
TZOFFSETTO:+0000
TZNAME:UTC
DTSTART:20250101T000000
END:STANDARD
END:VTIMEZONE
BEGIN:VTIMEZONE
TZID:Europe/London
BEGIN:DAYLIGHT
TZOFFSETFROM:+0000
TZOFFSETTO:+0100
TZNAME:BST
DTSTART:20250330T010000
END:DAYLIGHT
BEGIN:STANDARD
TZOFFSETFROM:+0100
TZOFFSETTO:+0000
TZNAME:GMT
DTSTART:20251026T010000
END:STANDARD
BEGIN:DAYLIGHT
TZOFFSETFROM:+0000
TZOFFSETTO:+0100
TZNAME:BST
DTSTART:20260329T010000
END:DAYLIGHT
BEGIN:STANDARD
TZOFFSETFROM:+0100
TZOFFSETTO:+0000
TZNAME:GMT
DTSTART:20261025T010000
END:STANDARD
BEGIN:DAYLIGHT
TZOFFSETFROM:+0000
TZOFFSETTO:+0100
TZNAME:BST
DTSTART:20270328T010000
END:DAYLIGHT
BEGIN:STANDARD
TZOFFSETFROM:+0100
TZOFFSETTO:+0000
TZNAME:GMT
DTSTART:20271031T010000
END:STANDARD
END:VTIMEZONE
BEGIN:VTIMEZONE
TZID:UTC
BEGIN:STANDARD
TZOFFSETFROM:+0000
TZOFFSETTO:+0000
TZNAME:UTC
DTSTART:20250101T000000
END:STANDARD
END:VTIMEZONE
BEGIN:VEVENT
DTSTART;TZID=UTC:20260313T190000
DTEND;TZID=UTC:20260313T220000
DTSTAMP:20260425T145109
CREATED:20251031T131405Z
LAST-MODIFIED:20251031T131405Z
UID:29735-1773428400-1773439200@archersofraunds.co.uk
SUMMARY:Beginners Course Week 2
DESCRIPTION:Welcome to the second week of the Beginners Course. \n\nFreestyle/Recurve – finger placement\, hook depth and Draw Arm\nDiscuss scoring rounds\nProgression Team to help with session\nFreestyle/Recurve – finger placement\, hook depth and Pelvic Tilt\nContinue with FITA award\nDiscussion by the Progression Team\nBow drills\, clingy bands and balance work
URL:https://archersofraunds.co.uk/event/beginners-course-week-2-15/
LOCATION:Archers of Raunds – Coaching\, Manor School Sports College\, Mountbatten Way\, Raunds\, NN9 6PA\, United Kingdom
CATEGORIES:Beginners Course
ATTACH;FMTTYPE=image/png:https://archersofraunds.co.uk/wp-content/uploads/2019/09/bow.png
ORGANIZER;CN="Jon Kilraine":MAILTO:tournamentofficer@archersofraunds.co.uk
END:VEVENT
BEGIN:VEVENT
DTSTART;TZID=Europe/London:20260314T130000
DTEND;TZID=Europe/London:20260314T170000
DTSTAMP:20260425T145109
CREATED:20251002T111837Z
LAST-MODIFIED:20251210T180248Z
UID:29690-1773493200-1773507600@archersofraunds.co.uk
SUMMARY:Scoring Round: WA Combined
DESCRIPTION:It will be a Combined WA 18+25 Round so will be as follows: \nDistance: 18+25m – Arrows: 10 Dozen Arrows  – Target Face: 40cm + 60cm – 10 zone scoring \nThere will be two sighter ends consisting of 3 arrows per end but only at the longest distance!  All ends will be 3 arrows per end. \nFor the triple face the scoring is 5 zones per target scoring from 10 down to 6\, for a single face there are 10 scoring zones from 10 down to 1.\nThe 2 inner gold rings both count as 10 for recurve\, but only the inner ‘X’ ring counts 10 for a compound archer\, moving out to 9 for the outer gold\, 8 and 7 etc. \nSighters will commence at 13:15 and the scoring round will be 13:25. \nLate arrivals will not be able to participate in the scoring round and may need to set up separate bosses (subject to room and availability) whilst the scoring round archers are scoring.
URL:https://archersofraunds.co.uk/event/scoring-round-wa-combined-6/
LOCATION:Archers of Raunds – Scoring Rounds\, Manor School Sports College\, Mountbatten Way\, Raunds\, NN9 6PA\, United Kingdom
CATEGORIES:Scoring Round
END:VEVENT
BEGIN:VEVENT
DTSTART;TZID=Europe/London:20260315T100000
DTEND;TZID=Europe/London:20260315T130000
DTSTAMP:20260425T145109
CREATED:20251002T112129Z
LAST-MODIFIED:20251002T112129Z
UID:29693-1773568800-1773579600@archersofraunds.co.uk
SUMMARY:Scoring Round: Frostbite
DESCRIPTION:The Frostbite round will be shot outdoors. \nThe Frostbite round consists of 3 dozen arrows (6 arrow ends) at 30m shooting at an 80cm target face. You have 6 arrows for sighters.
URL:https://archersofraunds.co.uk/event/scoring-round-frostbite-7/
LOCATION:Archers of Raunds – Scoring Rounds\, Manor School Sports College\, Mountbatten Way\, Raunds\, NN9 6PA\, United Kingdom
CATEGORIES:Frostbite,Scoring Round
ATTACH;FMTTYPE=image/jpeg:https://archersofraunds.co.uk/wp-content/uploads/2021/11/Frostbite-Archery.jpg
END:VEVENT
BEGIN:VEVENT
DTSTART;TZID=UTC:20260320T190000
DTEND;TZID=UTC:20260320T220000
DTSTAMP:20260425T145109
CREATED:20251031T131415Z
LAST-MODIFIED:20251031T131415Z
UID:29736-1774033200-1774044000@archersofraunds.co.uk
SUMMARY:Beginners Course Week 3
DESCRIPTION:Welcome to Week 3 of the Beginners Course. \n\nChat from our Progression Team\nBow drills\nFull warm up\nClingy/stretchy bands\nBalance balls and smarties (balance techniques)\nConcentrate on Pelvic Tilt\nDiscuss Archery GB tree\nDiscuss joining the club\nShooting\nQ&A
URL:https://archersofraunds.co.uk/event/beginners-course-week-3-16/
LOCATION:Archers of Raunds – Coaching\, Manor School Sports College\, Mountbatten Way\, Raunds\, NN9 6PA\, United Kingdom
CATEGORIES:Beginners Course
ATTACH;FMTTYPE=image/png:https://archersofraunds.co.uk/wp-content/uploads/2019/09/bow.png
ORGANIZER;CN="Jon Kilraine":MAILTO:tournamentofficer@archersofraunds.co.uk
END:VEVENT
BEGIN:VEVENT
DTSTART;TZID=Europe/London:20260321T130000
DTEND;TZID=Europe/London:20260321T170000
DTSTAMP:20260425T145109
CREATED:20251002T112454Z
LAST-MODIFIED:20251002T112454Z
UID:29700-1774098000-1774112400@archersofraunds.co.uk
SUMMARY:Scoring Round: WA25
DESCRIPTION:It will be a WA 25 Round so will be as follows: \nDistance: 25m – Arrows: 5 Dozen Arrows  – Target Face: 60cm – 10 zone scoring \nThere will be two sighter ends consisting of 3 arrows per end.  All ends will be 3 arrows per end. \nFor the triple face the scoring is 5 zones per target scoring from 10 down to 6\, for a single face there are 10 scoring zones from 10 down to 1.\nThe 2 inner gold rings both count as 10 for recurve\, but only the inner ‘X’ ring counts 10 for a compound archer\, moving out to 9 for the outer gold\, 8 and 7 etc. \nSighters will commence at 13:15 and the scoring round will be 13:25. \nLate arrivals will not be able to participate in the scoring round and may need to set up separate bosses (subject to room and availability) whilst the scoring round archers are scoring.
URL:https://archersofraunds.co.uk/event/scoring-round-wa25-13/
LOCATION:Archers of Raunds – Scoring Rounds\, Manor School Sports College\, Mountbatten Way\, Raunds\, NN9 6PA\, United Kingdom
CATEGORIES:Scoring Round
END:VEVENT
BEGIN:VEVENT
DTSTART;TZID=Europe/London:20260322T100000
DTEND;TZID=Europe/London:20260322T140000
DTSTAMP:20260425T145109
CREATED:20251002T112554Z
LAST-MODIFIED:20251002T112554Z
UID:29701-1774173600-1774188000@archersofraunds.co.uk
SUMMARY:Scoring Round: WA25
DESCRIPTION:It will be a WA 25 Round so will be as follows: \nDistance: 25m – Arrows: 5 Dozen Arrows  – Target Face: 60cm – 10 zone scoring \nThere will be two sighter ends consisting of 3 arrows per end.  All ends will be 3 arrows per end. \nFor the triple face the scoring is 5 zones per target scoring from 10 down to 6\, for a single face there are 10 scoring zones from 10 down to 1.\nThe 2 inner gold rings both count as 10 for recurve\, but only the inner ‘X’ ring counts 10 for a compound archer\, moving out to 9 for the outer gold\, 8 and 7 etc. \nSighters will commence at 10:25 and the scoring round will be 10:30. \nLate arrivals will not be able to participate in the scoring round and may need to set up separate bosses (subject to room and availability) whilst the scoring round archers are scoring.
URL:https://archersofraunds.co.uk/event/scoring-round-wa25-14/
LOCATION:Archers of Raunds – Scoring Rounds\, Manor School Sports College\, Mountbatten Way\, Raunds\, NN9 6PA\, United Kingdom
CATEGORIES:Scoring Round
END:VEVENT
BEGIN:VEVENT
DTSTART;TZID=UTC:20260327T190000
DTEND;TZID=UTC:20260327T220000
DTSTAMP:20260425T145109
CREATED:20251031T131419Z
LAST-MODIFIED:20251031T131419Z
UID:29737-1774638000-1774648800@archersofraunds.co.uk
SUMMARY:Beginners Course Final Weekend
DESCRIPTION:Welcome to the final weekend of the Beginners Course. \n\nEtiquette and knowledge checks\nBarebow shooting with standard recurve bow\nScoring rounds and FITA awards\nDiscuss membership and what’s next for them as archers\nDemonstrate different bows\, styles\, draws\, finger releases\, release aids\nPresentations of awards and certificates
URL:https://archersofraunds.co.uk/event/beginners-course-final-weekend-14/
LOCATION:Archers of Raunds – Coaching\, Manor School Sports College\, Mountbatten Way\, Raunds\, NN9 6PA\, United Kingdom
CATEGORIES:Beginners Course
ATTACH;FMTTYPE=image/png:https://archersofraunds.co.uk/wp-content/uploads/2019/09/bow.png
ORGANIZER;CN="Jon Kilraine":MAILTO:tournamentofficer@archersofraunds.co.uk
END:VEVENT
BEGIN:VEVENT
DTSTART;TZID=Europe/London:20260328T130000
DTEND;TZID=Europe/London:20260328T170000
DTSTAMP:20260425T145109
CREATED:20251002T112806Z
LAST-MODIFIED:20251002T112806Z
UID:29704-1774702800-1774717200@archersofraunds.co.uk
SUMMARY:Scoring Round: Stafford
DESCRIPTION:It will be a Stafford Round so will be as follows: \nDistance: 30m – Arrows: 6 Dozen Arrows  – Target Face: 80cm – 10 zone scoring \nThere will be two sighter ends consisting of 3 arrows per end.  All ends will be 3 arrows per end. \nFor the single face there are 10 scoring zones from 10 down to 1.\nThe 2 inner gold rings both count as 10 for recurve\, but only the inner ‘X’ ring counts 10 for a compound archer\, moving out to 9 for the outer gold\, 8 and 7 etc. \nSighters will commence at 13:15 and the scoring round will be 13:25. \nLate arrivals will not be able to participate in the scoring round and may need to set up separate bosses (subject to room and availability) whilst the scoring round archers are scoring. \nIf you are not participating in the scoring round then you must not hold up the shooting line!
URL:https://archersofraunds.co.uk/event/scoring-round-stafford-15/
LOCATION:Archers of Raunds – Scoring Rounds\, Manor School Sports College\, Mountbatten Way\, Raunds\, NN9 6PA\, United Kingdom
CATEGORIES:Scoring Round
END:VEVENT
BEGIN:VEVENT
DTSTART;TZID=Europe/London:20260329T100000
DTEND;TZID=Europe/London:20260329T140000
DTSTAMP:20260425T145109
CREATED:20251002T112740Z
LAST-MODIFIED:20251002T112829Z
UID:29705-1774778400-1774792800@archersofraunds.co.uk
SUMMARY:Scoring Round: Stafford
DESCRIPTION:It will be a Stafford Round so will be as follows: \nDistance: 30m – Arrows: 6 Dozen Arrows  – Target Face: 80cm – 10 zone scoring \nThere will be two sighter ends consisting of 3 arrows per end.  All ends will be 3 arrows per end. \nFor the single face there are 10 scoring zones from 10 down to 1.\nThe 2 inner gold rings both count as 10 for recurve\, but only the inner ‘X’ ring counts 10 for a compound archer\, moving out to 9 for the outer gold\, 8 and 7 etc. \nSighters will commence at 10:25 and the scoring round will be 10:30. \nLate arrivals will not be able to participate in the scoring round and may need to set up separate bosses (subject to room and availability) whilst the scoring round archers are scoring. \nIf you are not participating in the scoring round then you must not hold up the shooting line!
URL:https://archersofraunds.co.uk/event/scoring-round-stafford-14/
LOCATION:Archers of Raunds – Scoring Rounds\, Manor School Sports College\, Mountbatten Way\, Raunds\, NN9 6PA\, United Kingdom
CATEGORIES:Scoring Round
END:VEVENT
BEGIN:VEVENT
DTSTART;TZID=UTC:20260411T100000
DTEND;TZID=UTC:20260411T163000
DTSTAMP:20260425T145109
CREATED:20260414T194327Z
LAST-MODIFIED:20260414T194327Z
UID:29912-1775901600-1775925000@archersofraunds.co.uk
SUMMARY:Scoring Round: WA70/60/50 and Metric 122 (40m/30m)
DESCRIPTION:It will be a WA70/60/50 and Metric 122 (40m/30m) Round so will be as follows: \nArrows: 6 Dozen Arrows  – Target Face: 122cm – 10 zone scoring \nThere will be two sighter ends consisting of 6 arrows per end.  All ends will be 6 arrows per end. \nFor the single face there are 10 scoring zones from 10 down to 1.\nThe 2 inner gold rings both count as 10 for recurve\, but only the inner ‘X’ ring counts 10 for a compound archer\, moving out to 9 for the outer gold\, 8 and 7 etc. \nSighters will commence at 10:15 and the scoring round will be 10:25 and 13:15 with scoring round at 13:25. \nLate arrivals will not be able to participate in the scoring round and may need to set up separate bosses (subject to room and availability) whilst the scoring round archers are scoring. \nIf you are not participating in the scoring round then you must not hold up the shooting line!
URL:https://archersofraunds.co.uk/event/scoring-round-wa70-60-50-and-metric-122-40m-30m-24/
LOCATION:Archers of Raunds – Scoring Rounds\, Manor School Sports College\, Mountbatten Way\, Raunds\, NN9 6PA\, United Kingdom
CATEGORIES:Scoring Round
ATTACH;FMTTYPE=image/jpeg:https://archersofraunds.co.uk/wp-content/uploads/2019/12/Stafford-Tgt-scaled-e1575630104973.jpg
END:VEVENT
BEGIN:VEVENT
DTSTART;TZID=UTC:20260412T100000
DTEND;TZID=UTC:20260412T133000
DTSTAMP:20260425T145109
CREATED:20260414T194445Z
LAST-MODIFIED:20260414T194604Z
UID:29914-1775988000-1776000600@archersofraunds.co.uk
SUMMARY:Scoring Round: WA70/60/50 and Metric 122 (40m/30m)
DESCRIPTION:It will be a WA70/60/50 and Metric 122 (40m/30m) Round so will be as follows: \nArrows: 6 Dozen Arrows  – Target Face: 122cm – 10 zone scoring \nThere will be two sighter ends consisting of 6 arrows per end.  All ends will be 6 arrows per end. \nFor the single face there are 10 scoring zones from 10 down to 1.\nThe 2 inner gold rings both count as 10 for recurve\, but only the inner ‘X’ ring counts 10 for a compound archer\, moving out to 9 for the outer gold\, 8 and 7 etc. \nSighters will commence at 10:15 and the scoring round will be 10:25. \nLate arrivals will not be able to participate in the scoring round and may need to set up separate bosses (subject to room and availability) whilst the scoring round archers are scoring. \nIf you are not participating in the scoring round then you must not hold up the shooting line!
URL:https://archersofraunds.co.uk/event/scoring-round-wa70-60-50-and-metric-122-40m-30m-25/
LOCATION:Archers of Raunds – Scoring Rounds\, Manor School Sports College\, Mountbatten Way\, Raunds\, NN9 6PA\, United Kingdom
CATEGORIES:Scoring Round
ATTACH;FMTTYPE=image/jpeg:https://archersofraunds.co.uk/wp-content/uploads/2019/12/Stafford-Tgt-scaled-e1575630104973.jpg
END:VEVENT
BEGIN:VEVENT
DTSTART;TZID=Europe/London:20260413T193000
DTEND;TZID=Europe/London:20260413T220000
DTSTAMP:20260425T145109
CREATED:20250519T200012Z
LAST-MODIFIED:20250519T200012Z
UID:29321-1776108600-1776117600@archersofraunds.co.uk
SUMMARY:AGM and Awards Night
DESCRIPTION:AGM
URL:https://archersofraunds.co.uk/event/agm-and-awards-night/
LOCATION:31 Marshall’s Rd\, Raunds\, Wellingborough NN9 6ET\, 31 Marshall's Rd\, Raunds\, Wellingborough\, NN9 6ET
CATEGORIES:Committee Meetings
ATTACH;FMTTYPE=image/jpeg:https://archersofraunds.co.uk/wp-content/uploads/2019/09/sports-college.jpg
ORGANIZER;CN="Tony Parkin":MAILTO:tournamentofficer@archersofraunds.co.uk
END:VEVENT
BEGIN:VEVENT
DTSTART;TZID=UTC:20260418T100000
DTEND;TZID=UTC:20260418T163000
DTSTAMP:20260425T145109
CREATED:20260414T195059Z
LAST-MODIFIED:20260414T200320Z
UID:29917-1776506400-1776529800@archersofraunds.co.uk
SUMMARY:Scoring Round: Warwicks / Double
DESCRIPTION:It will be a Warwicks Round so will be as follows: \nDistances: 2 distances 100 + 80yds depending on age – Arrows: 4 Dozen Arrows  – Target Face: 122cm – 5 zone scoring \nThere will be two sighter ends consisting of 6 arrows per end.  All ends will be 6 arrows per end. \nFor the single face there are 5 scoring zones from 9 down to 1.The 2 inner gold rings both count as 9 for recurve\, but only the inner ‘X’ ring counts 9 for a compound archer\, moving out to 7 etc. \nSighters will commence at 10:15 and the scoring round will be 10:25 and 13:15 with scoring round at 13:25. \nLate arrivals will not be able to participate in the scoring round and may need to set up separate bosses (subject to room and availability) whilst the scoring round archers are scoring. \nIf you are not participating in the scoring round then you must not hold up the shooting line!
URL:https://archersofraunds.co.uk/event/scoring-round-warwicks-double-3/
LOCATION:Archers of Raunds – Tournaments\, Manor School Sports College\, Mountbatten Way\, Raunds\, NN9 6PA\, United Kingdom
CATEGORIES:Scoring Round
ATTACH;FMTTYPE=image/jpeg:https://archersofraunds.co.uk/wp-content/uploads/2019/09/Manor-School.jpg
END:VEVENT
BEGIN:VEVENT
DTSTART;TZID=UTC:20260419T100000
DTEND;TZID=UTC:20260419T133000
DTSTAMP:20260425T145109
CREATED:20260414T195103Z
LAST-MODIFIED:20260414T195103Z
UID:29916-1776592800-1776605400@archersofraunds.co.uk
SUMMARY:Scoring Round: Warwicks / Double
DESCRIPTION:It will be a Warwicks Round so will be as follows: \nDistances: 2 distances 100 + 80yds depending on age – Arrows: 4 Dozen Arrows  – Target Face: 122cm – 5 zone scoring \nThere will be two sighter ends consisting of 6 arrows per end.  All ends will be 6 arrows per end. \nFor the single face there are 5 scoring zones from 9 down to 1.\nThe 2 inner gold rings both count as 9 for recurve\, but only the inner ‘X’ ring counts 9 for a compound archer\, moving out to 7 etc. \nSighters will commence at 10:15 and the scoring round will be 10:25 am. \nLate arrivals will not be able to participate in the scoring round and may need to set up separate bosses (subject to room and availability) whilst the scoring round archers are scoring. \nIf you are not participating in the scoring round then you must not hold up the shooting line!
URL:https://archersofraunds.co.uk/event/scoring-round-warwicks-double-4/
LOCATION:Archers of Raunds – Scoring Rounds\, Manor School Sports College\, Mountbatten Way\, Raunds\, NN9 6PA\, United Kingdom
CATEGORIES:Scoring Round
ATTACH;FMTTYPE=image/jpeg:https://archersofraunds.co.uk/wp-content/uploads/2019/12/Stafford-Tgt-scaled-e1575630104973.jpg
END:VEVENT
BEGIN:VEVENT
DTSTART;TZID=UTC:20260425T100000
DTEND;TZID=UTC:20260425T163000
DTSTAMP:20260425T145109
CREATED:20260414T195407Z
LAST-MODIFIED:20260414T195520Z
UID:29920-1777111200-1777134600@archersofraunds.co.uk
SUMMARY:Scoring Round: Long/Short Metrics 1-5 (Long/Short Metrics)
DESCRIPTION:It will be Long/Short Metrics 1-5 (Long/Short) Rounds so will be as follows: \nDistance: Depends on round shot – Arrows: 6 Dozen Arrows  – Target Face: 122cm and or 80cm – 10 zone scoring \nThere will be two sighter ends consisting of 6 arrows per end.  All ends will be 6 arrows per end. \nFor the single face there are 10 scoring zones from 10 down to 1.\nThe 2 inner gold rings both count as 10 for recurve\, but only the inner ‘X’ ring counts 10 for a compound archer\, moving out to 9 for the outer gold\, 8 and 7 etc. \nSighters will commence at 10:15 and the scoring round will be 10:25 and at 13.15 for 13.25. \nLate arrivals will not be able to participate in the scoring round and may need to set up separate bosses (subject to room and availability) whilst the scoring round archers are scoring. \nIf you are not participating in the scoring round then you must not hold up the shooting line!
URL:https://archersofraunds.co.uk/event/scoring-round-long-short-metrics-1-5-long-short-metrics-8/
LOCATION:Archers of Raunds – Scoring Rounds\, Manor School Sports College\, Mountbatten Way\, Raunds\, NN9 6PA\, United Kingdom
CATEGORIES:Scoring Round
ATTACH;FMTTYPE=image/jpeg:https://archersofraunds.co.uk/wp-content/uploads/2019/12/Stafford-Tgt-scaled-e1575630104973.jpg
END:VEVENT
BEGIN:VEVENT
DTSTART;TZID=UTC:20260426T100000
DTEND;TZID=UTC:20260426T163000
DTSTAMP:20260425T145109
CREATED:20260414T195410Z
LAST-MODIFIED:20260414T195734Z
UID:29921-1777197600-1777221000@archersofraunds.co.uk
SUMMARY:Scoring Round: Long/Short Metrics 1-5 (Long/Short Metrics)
DESCRIPTION:It will be Long/Short Metrics 1-5 (Long/Short) Rounds so will be as follows: \nDistance: Depends on round shot – Arrows: 6 Dozen Arrows  – Target Face: 122cm and or 80cm – 10 zone scoring \nThere will be two sighter ends consisting of 6 arrows per end.  All ends will be 6 arrows per end. \nFor the single face there are 10 scoring zones from 10 down to 1.\nThe 2 inner gold rings both count as 10 for recurve\, but only the inner ‘X’ ring counts 10 for a compound archer\, moving out to 9 for the outer gold\, 8 and 7 etc. \nSighters will commence at 10:15 and the scoring round will be 10:25. \nLate arrivals will not be able to participate in the scoring round and may need to set up separate bosses (subject to room and availability) whilst the scoring round archers are scoring. \nIf you are not participating in the scoring round then you must not hold up the shooting line!
URL:https://archersofraunds.co.uk/event/scoring-round-long-short-metrics-1-5-long-short-metrics-9/
LOCATION:Archers of Raunds – Scoring Rounds\, Manor School Sports College\, Mountbatten Way\, Raunds\, NN9 6PA\, United Kingdom
CATEGORIES:Scoring Round
ATTACH;FMTTYPE=image/jpeg:https://archersofraunds.co.uk/wp-content/uploads/2019/12/Stafford-Tgt-scaled-e1575630104973.jpg
END:VEVENT
BEGIN:VEVENT
DTSTART;TZID=UTC:20260502T100000
DTEND;TZID=UTC:20260502T170000
DTSTAMP:20260425T145109
CREATED:20260414T200124Z
LAST-MODIFIED:20260414T200124Z
UID:29924-1777716000-1777741200@archersofraunds.co.uk
SUMMARY:Scoring Round: WA1440/Metrics 1-5 (Long/Half/Short) full day
DESCRIPTION:It will be a WA1440/Metrics 1-5 (Long/Half/Short) Round so will be as follows: \nNote: This is a full day round \nArrows: 12/6 Dozen Arrows  – Target Face: 122cm – 10 zone scoring \nThere will be two sighter ends consisting of 6 arrows per end.  All ends will be 6 arrows per end. \nFor the single face there are 10 scoring zones from 10 down to 1.\nThe 2 inner gold rings both count as 10 for recurve\, but only the inner ‘X’ ring counts 10 for a compound archer\, moving out to 9 for the outer gold\, 8 and 7 etc. \nSighters will commence at 10:15 and the scoring round will be 10:25am. \nLate arrivals will not be able to participate in the scoring round and may need to set up separate bosses (subject to room and availability) whilst the scoring round archers are scoring. \nIf you are not participating in the scoring round then you must not hold up the shooting line!
URL:https://archersofraunds.co.uk/event/scoring-round-wa1440-metrics-1-5-long-half-short-full-day/
LOCATION:Archers of Raunds – Scoring Rounds\, Manor School Sports College\, Mountbatten Way\, Raunds\, NN9 6PA\, United Kingdom
CATEGORIES:Scoring Round
ATTACH;FMTTYPE=image/jpeg:https://archersofraunds.co.uk/wp-content/uploads/2019/12/Stafford-Tgt-scaled-e1575630104973.jpg
END:VEVENT
BEGIN:VEVENT
DTSTART;TZID=UTC:20260628T080000
DTEND;TZID=UTC:20260628T180000
DTSTAMP:20260425T145109
CREATED:20260331T200723Z
LAST-MODIFIED:20260402T162239Z
UID:29884-1782633600-1782669600@archersofraunds.co.uk
SUMMARY:Caswell 2 - Double WA70/60/50 and Metric 122 (40m/30m) Record Status
DESCRIPTION:It will be a  Double WA70/60/50 and Metric 122 (40m/30m) Round so will be as follows: \nArrows: 6 Dozen Arrows  – Target Face: 122cm – 10 zone scoring \nThere will be 30 minutes of practice at 4 minutes per end.  All ends will be 6 arrows once scoring begins.. \nFor the single face there are 10 scoring zones from 10 down to 1.\nThe 2 inner gold rings both count as 10 for recurve\, but only the inner ‘X’ ring counts 10 for a compound archer\, moving out to 9 for the outer gold\, 8 and 7 etc. \nSighters will commence at 9:30 and the scoring round will be 9:45 and 13:30 with scoring round at 13:45. \nLate arrivals will not be able to participate in the scoring round. \nEntry form is at https://archersofraunds.co.uk/tournaments/ncas-2rd-caswell-entry-form-2026/
URL:https://archersofraunds.co.uk/event/caswell-2-double-wa70-60-50-and-metric-122-40m-30m-record-status/
LOCATION:Archers of Raunds – Tournaments\, Manor School Sports College\, Mountbatten Way\, Raunds\, NN9 6PA\, United Kingdom
CATEGORIES:Tournament
ATTACH;FMTTYPE=image/jpeg:https://archersofraunds.co.uk/wp-content/uploads/2019/12/Stafford-Tgt-scaled-e1575630104973.jpg
END:VEVENT
BEGIN:VEVENT
DTSTART;TZID=UTC:20260802T103000
DTEND;TZID=UTC:20260802T160000
DTSTAMP:20260425T145109
CREATED:20260401T133253Z
LAST-MODIFIED:20260402T162024Z
UID:29886-1785666600-1785686400@archersofraunds.co.uk
SUMMARY:Archers of Raunds 2nd Outdoor Open - Western (Shannon Shoot)
DESCRIPTION:The Outdoor Open will be a Western Round so will be as follows: \nDistances: 2 distances such as 100 + 80yds depending on age – Arrows: 8 Dozen Arrows  – Target Face: 122cm – 5 zone scoring \nThere will be one sighter end consisting of 6 arrows.  All ends will be 6 arrows per end. \nFor the single face there are 5 scoring zones from 9 down to 1. Scores will be odd numbers only – i.e. 9\, 7\, 5\, 3 and 1. Gold is 9 points\, red is 7\, blue is 5\, black is 3 and finally white is 1 point. \nAssembly will be at 10:45 with sighters at 11am. Note: There are NO sighters for the second distance. \nEntry form will be available soon.
URL:https://archersofraunds.co.uk/event/archers-of-raunds-2nd-outdoor-open-western/
LOCATION:Archers of Raunds – Tournaments\, Manor School Sports College\, Mountbatten Way\, Raunds\, NN9 6PA\, United Kingdom
CATEGORIES:Tournament
ATTACH;FMTTYPE=image/jpeg:https://archersofraunds.co.uk/wp-content/uploads/2019/12/Stafford-Tgt-scaled-e1575630104973.jpg
ORGANIZER;CN="Tony Parkin":MAILTO:tournamentofficer@archersofraunds.co.uk
END:VEVENT
END:VCALENDAR