BEGIN:VCALENDAR
VERSION:2.0
PRODID:-//Archers of Raunds - ECPv6.15.17//NONSGML v1.0//EN
CALSCALE:GREGORIAN
METHOD:PUBLISH
X-ORIGINAL-URL:https://archersofraunds.co.uk
X-WR-CALDESC:Events for Archers of Raunds
REFRESH-INTERVAL;VALUE=DURATION:PT1H
X-Robots-Tag:noindex
X-PUBLISHED-TTL:PT1H
BEGIN:VTIMEZONE
TZID:UTC
BEGIN:STANDARD
TZOFFSETFROM:+0000
TZOFFSETTO:+0000
TZNAME:UTC
DTSTART:20180101T000000
END:STANDARD
END:VTIMEZONE
BEGIN:VEVENT
DTSTART;VALUE=DATE:20191208
DTEND;VALUE=DATE:20191209
DTSTAMP:20260420T111752
CREATED:20191006T101029Z
LAST-MODIFIED:20191008T174825Z
UID:3695-1575763200-1575849599@archersofraunds.co.uk
SUMMARY:Foxes Archery Club Countesthorpe Worcester
DESCRIPTION:
URL:https://archersofraunds.co.uk/event/foxes-archery-club-worcester/
CATEGORIES:Tournament
END:VEVENT
BEGIN:VEVENT
DTSTART;VALUE=DATE:20191201
DTEND;VALUE=DATE:20191202
DTSTAMP:20260420T111752
CREATED:20191006T101001Z
LAST-MODIFIED:20191006T101001Z
UID:3693-1575158400-1575244799@archersofraunds.co.uk
SUMMARY:Targetcraft Portsmouth
DESCRIPTION:
URL:https://archersofraunds.co.uk/event/targetcraft-portsmouth/
CATEGORIES:Tournament
END:VEVENT
BEGIN:VEVENT
DTSTART;VALUE=DATE:20191110
DTEND;VALUE=DATE:20191111
DTSTAMP:20260420T111752
CREATED:20191006T100928Z
LAST-MODIFIED:20191006T100928Z
UID:3691-1573344000-1573430399@archersofraunds.co.uk
SUMMARY:Foxes Archery Club Countesthorpe Portsmouth
DESCRIPTION:
URL:https://archersofraunds.co.uk/event/foxes-archery-club-countesthorpe-portsmouth/
CATEGORIES:Tournament
END:VEVENT
BEGIN:VEVENT
DTSTART;VALUE=DATE:20191013
DTEND;VALUE=DATE:20191014
DTSTAMP:20260420T111752
CREATED:20191006T100417Z
LAST-MODIFIED:20191006T100417Z
UID:3688-1570924800-1571011199@archersofraunds.co.uk
SUMMARY:Kettering Archers Chris Mason Memorial Worcester 2019
DESCRIPTION:See NCAS website for more details
URL:https://archersofraunds.co.uk/event/kettering-archers-chris-mason-memorial-worcester-2019/
CATEGORIES:Tournament
END:VEVENT
BEGIN:VEVENT
DTSTART;TZID=UTC:20190928T110000
DTEND;TZID=UTC:20190928T163000
DTSTAMP:20260420T111752
CREATED:20190906T101112Z
LAST-MODIFIED:20190926T123313Z
UID:2480-1569668400-1569688200@archersofraunds.co.uk
SUMMARY:AoR Closed Tournament
DESCRIPTION:CALLING ALL MEMBERS!!! \nCome along and take part in Archers of Raunds long awaited outdoor closed shoot. \nWe have a varied selection of rounds taking place such as short metrics for the newer members and long/normal metrics for the more experienced archers. \nIt will be a day of fun but it will also give you an insight into how tournaments are run and what to expect at your first tournament/competition. \nBook now and see you all soon!!
URL:https://archersofraunds.co.uk/event/aor-closed-tournament/
LOCATION:Archers of Raunds – Tournaments\, Manor School Sports College\, Mountbatten Way\, Raunds\, NN9 6PA\, United Kingdom
CATEGORIES:Tournament
ATTACH;FMTTYPE=image/jpeg:https://archersofraunds.co.uk/wp-content/uploads/2019/09/Manor-School.jpg
ORGANIZER;CN="Jon Kilraine":MAILTO:tournamentofficer@archersofraunds.co.uk
END:VEVENT
END:VCALENDAR