BEGIN:VCALENDAR
VERSION:2.0
PRODID:-//Archers of Raunds - ECPv6.15.17//NONSGML v1.0//EN
CALSCALE:GREGORIAN
METHOD:PUBLISH
X-WR-CALNAME:Archers of Raunds
X-ORIGINAL-URL:https://archersofraunds.co.uk
X-WR-CALDESC:Events for Archers of Raunds
REFRESH-INTERVAL;VALUE=DURATION:PT1H
X-Robots-Tag:noindex
X-PUBLISHED-TTL:PT1H
BEGIN:VTIMEZONE
TZID:Europe/London
BEGIN:DAYLIGHT
TZOFFSETFROM:+0000
TZOFFSETTO:+0100
TZNAME:BST
DTSTART:20250330T010000
END:DAYLIGHT
BEGIN:STANDARD
TZOFFSETFROM:+0100
TZOFFSETTO:+0000
TZNAME:GMT
DTSTART:20251026T010000
END:STANDARD
BEGIN:DAYLIGHT
TZOFFSETFROM:+0000
TZOFFSETTO:+0100
TZNAME:BST
DTSTART:20260329T010000
END:DAYLIGHT
BEGIN:STANDARD
TZOFFSETFROM:+0100
TZOFFSETTO:+0000
TZNAME:GMT
DTSTART:20261025T010000
END:STANDARD
BEGIN:DAYLIGHT
TZOFFSETFROM:+0000
TZOFFSETTO:+0100
TZNAME:BST
DTSTART:20270328T010000
END:DAYLIGHT
BEGIN:STANDARD
TZOFFSETFROM:+0100
TZOFFSETTO:+0000
TZNAME:GMT
DTSTART:20271031T010000
END:STANDARD
END:VTIMEZONE
BEGIN:VEVENT
DTSTART;TZID=Europe/London:20260201T090000
DTEND;TZID=Europe/London:20260201T130000
DTSTAMP:20260423T105423
CREATED:20251210T180125Z
LAST-MODIFIED:20251210T180125Z
UID:29768-1769936400-1769950800@archersofraunds.co.uk
SUMMARY:Scoring Round: Worcester
DESCRIPTION:It will be a Worcester Round so will be as follows: \nDistance: 20yds (18m) – Arrows: 5 Dozen Arrows  – Target Face: Special 16″ Black and White – 5 zone scoring \nThere will be one sighter end consisting of 5 arrows per end.  All ends will be 5 arrows per end. \nA Worcester round uses a special black and white face\, containing 4 black rings scoring 1 through to 4 and the centre white scoring 5. \nThe Worcester round is shot at 2 faces\, one above the other. You shoot your first 30 arrows at one face and the next 30 at the other. \nThere is no set order to shooting either top or bottom\, however 2 archers can share a pair of targets\, with one archer shooting at one face and the other archer shooting at the other face\, swapping after 30 arrows. You do not get any further sighter arrows when you swap faces. \nFor compound archers\, there is also 5 spot face scoring zones 5 and 4 only. This is to help prevent arrow damage and wear on the targets \nSighters will commence at 9:15 and the scoring round will be 9:25. \nLate arrivals will not be able to participate in the scoring round and may need to set up separate bosses (subject to room and availability) whilst the scoring round archers are scoring. \nIf you are not participating in the scoring round then you must not hold up the shooting line!
URL:https://archersofraunds.co.uk/event/scoring-round-worcester-20/
LOCATION:Archers of Raunds – Scoring Rounds\, Manor School Sports College\, Mountbatten Way\, Raunds\, NN9 6PA\, United Kingdom
CATEGORIES:Scoring Round
END:VEVENT
BEGIN:VEVENT
DTSTART;TZID=Europe/London:20260207T130000
DTEND;TZID=Europe/London:20260207T170000
DTSTAMP:20260423T105423
CREATED:20251002T110408Z
LAST-MODIFIED:20251002T110408Z
UID:29668-1770469200-1770483600@archersofraunds.co.uk
SUMMARY:Scoring Round: Bray II/Double
DESCRIPTION:It will be a Bray II Round so will be as follows: \nDistance: 25yds – Arrows: 2.5 Dozen Arrows  – Target Face: 60cm – 10 zone scoring \nThere will be two sighter ends consisting of 3 arrows per end.  All ends will be 3 arrows per end. \nThe 2 inner gold rings both count as 10 for recurve\, but only the inner ‘X’ ring counts 10 for a compound archer\, moving out to 9 for the outer gold\, 8 and 7 for the 2 red rings etc. down to 2 and 1 for the white rings. \nSighters will commence at 13:15 and the scoring round will be 13:25. \nLate arrivals will not be able to participate in the scoring round and may need to set up separate bosses (subject to room and availability) whilst the scoring round archers are scoring. \nIf you are not participating in the scoring round then you must not hold up the shooting line!
URL:https://archersofraunds.co.uk/event/scoring-round-bray-ii-double-14/
LOCATION:Archers of Raunds – Scoring Rounds\, Manor School Sports College\, Mountbatten Way\, Raunds\, NN9 6PA\, United Kingdom
CATEGORIES:Scoring Round
END:VEVENT
BEGIN:VEVENT
DTSTART;TZID=Europe/London:20260208T090000
DTEND;TZID=Europe/London:20260208T130000
DTSTAMP:20260423T105423
CREATED:20251002T110341Z
LAST-MODIFIED:20251002T110341Z
UID:29667-1770541200-1770555600@archersofraunds.co.uk
SUMMARY:Scoring Round: Bray II/Double
DESCRIPTION:It will be a Bray II Round so will be as follows: \nDistance: 25yds – Arrows: 2.5 Dozen Arrows  – Target Face: 60cm – 10 zone scoring \nThere will be two sighter ends consisting of 3 arrows per end.  All ends will be 3 arrows per end. \nThe 2 inner gold rings both count as 10 for recurve\, but only the inner ‘X’ ring counts 10 for a compound archer\, moving out to 9 for the outer gold\, 8 and 7 for the 2 red rings etc. down to 2 and 1 for the white rings. \nSighters will commence at 9:15 and the scoring round will be 9:25. \nLate arrivals will not be able to participate in the scoring round and may need to set up separate bosses (subject to room and availability) whilst the scoring round archers are scoring. \nIf you are not participating in the scoring round then you must not hold up the shooting line!
URL:https://archersofraunds.co.uk/event/scoring-round-bray-ii-double-13/
LOCATION:Archers of Raunds – Scoring Rounds\, Manor School Sports College\, Mountbatten Way\, Raunds\, NN9 6PA\, United Kingdom
CATEGORIES:Scoring Round
END:VEVENT
BEGIN:VEVENT
DTSTART;TZID=Europe/London:20260214T130000
DTEND;TZID=Europe/London:20260214T170000
DTSTAMP:20260423T105423
CREATED:20251002T112318Z
LAST-MODIFIED:20251210T180216Z
UID:29698-1771074000-1771088400@archersofraunds.co.uk
SUMMARY:Scoring Round: Vegas
DESCRIPTION:It will be a Vegas Round so will be as follows: \nDistance: 18m – Arrows: 5 Dozen Arrows  – Target Face: 40cm Triangle Spot – 10 zone scoring \nThere will be two sighter ends consisting of 3 arrows per end.  All ends will be 3 arrows per end. \nA Vegas round is shot on a special face containing three 40cm sized faces arranged in a triangle\, however the outer 5 scoring zones (from blue 5 out to white 1) are removed\, each target is numbered. \nArrows must be numbered and shot in ascending numerical sequence shooting at each target in the correct numerical sequence. \nLike the Worcester\, targets are placed one above the other and 2½ dozen arrows are shot at the first faces followed by 2½ dozen arrows at the second face. \nSighters will commence at 13:15 and the scoring round will be 13:25. \nLate arrivals will not be able to participate in the scoring round and may need to set up separate bosses (subject to room and availability) whilst the scoring round archers are scoring. \nIf you are not participating in the scoring round then you must not hold up the shooting line!
URL:https://archersofraunds.co.uk/event/scoring-round-vegas-13/
LOCATION:Archers of Raunds – Scoring Rounds\, Manor School Sports College\, Mountbatten Way\, Raunds\, NN9 6PA\, United Kingdom
CATEGORIES:Scoring Round
END:VEVENT
BEGIN:VEVENT
DTSTART;TZID=Europe/London:20260215T100000
DTEND;TZID=Europe/London:20260215T130000
DTSTAMP:20260423T105423
CREATED:20251002T112023Z
LAST-MODIFIED:20251002T112023Z
UID:29692-1771149600-1771160400@archersofraunds.co.uk
SUMMARY:Scoring Round: Frostbite
DESCRIPTION:The Frostbite round will be shot outdoors. \nThe Frostbite round consists of 3 dozen arrows (6 arrow ends) at 30m shooting at an 80cm target face. You have 6 arrows for sighters.
URL:https://archersofraunds.co.uk/event/scoring-round-frostbite-6/
LOCATION:Archers of Raunds – Scoring Rounds\, Manor School Sports College\, Mountbatten Way\, Raunds\, NN9 6PA\, United Kingdom
CATEGORIES:Frostbite,Scoring Round
ATTACH;FMTTYPE=image/jpeg:https://archersofraunds.co.uk/wp-content/uploads/2021/11/Frostbite-Archery.jpg
END:VEVENT
BEGIN:VEVENT
DTSTART;TZID=Europe/London:20260221T130000
DTEND;TZID=Europe/London:20260221T170000
DTSTAMP:20260423T105423
CREATED:20251002T110938Z
LAST-MODIFIED:20251002T110938Z
UID:29678-1771678800-1771693200@archersofraunds.co.uk
SUMMARY:Scoring Round: Vegas 300
DESCRIPTION:It will be a Vegas Round so will be as follows: \nDistance: 18m – Arrows: 2.5 Dozen Arrows  – Target Face: 40cm Triangle Spot or 40cm face – 10 zone scoring \nThere will be two sighter ends consisting of 3 arrows per end.  All ends will be 3 arrows per end and shot within two minutes using Timing Method 2 . \nA Vegas 300 round is shot on a special face containing three 40cm sized faces arranged in a triangle (or a single 40cm face)\, however the outer 5 scoring zones (from blue 5 out to white 1) are removed\, each target is numbered. \nArrows must be numbered and shot in ascending numerical sequence shooting at each target in the correct numerical sequence. \nLike the Worcester\, targets are placed one above the other and 15 arrows are shot at the first faces followed by 15 arrows at the second face. \nSighters will commence at 13:15 and the scoring round will be 13:25. \nLate arrivals will not be able to participate in the scoring round and may need to set up separate bosses (subject to room and availability) whilst the scoring round archers are scoring. \nIf you are not participating in the scoring round then you must not hold up the shooting line!
URL:https://archersofraunds.co.uk/event/scoring-round-vegas-300-9/
LOCATION:Archers of Raunds – Scoring Rounds\, Manor School Sports College\, Mountbatten Way\, Raunds\, NN9 6PA\, United Kingdom
CATEGORIES:Scoring Round
END:VEVENT
BEGIN:VEVENT
DTSTART;TZID=Europe/London:20260222T090000
DTEND;TZID=Europe/London:20260222T130000
DTSTAMP:20260423T105423
CREATED:20251002T110924Z
LAST-MODIFIED:20251002T110924Z
UID:29677-1771750800-1771765200@archersofraunds.co.uk
SUMMARY:Scoring Round: Vegas 300
DESCRIPTION:It will be a Vegas Round so will be as follows: \nDistance: 18m – Arrows: 2.5 Dozen Arrows  – Target Face: 40cm Triangle Spot or 40cm face – 10 zone scoring \nThere will be two sighter ends consisting of 3 arrows per end.  All ends will be 3 arrows per end and shot within two minutes using Timing Method 2 . \nA Vegas 300 round is shot on a special face containing three 40cm sized faces arranged in a triangle (or a single 40cm face)\, however the outer 5 scoring zones (from blue 5 out to white 1) are removed\, each target is numbered. \nArrows must be numbered and shot in ascending numerical sequence shooting at each target in the correct numerical sequence. \nLike the Worcester\, targets are placed one above the other and 15 arrows are shot at the first faces followed by 15 arrows at the second face. \nSighters will commence at 9:15 and the scoring round will be 9:25. \nLate arrivals will not be able to participate in the scoring round and may need to set up separate bosses (subject to room and availability) whilst the scoring round archers are scoring. \nIf you are not participating in the scoring round then you must not hold up the shooting line!
URL:https://archersofraunds.co.uk/event/scoring-round-vegas-300-8/
LOCATION:Archers of Raunds – Scoring Rounds\, Manor School Sports College\, Mountbatten Way\, Raunds\, NN9 6PA\, United Kingdom
CATEGORIES:Scoring Round
END:VEVENT
BEGIN:VEVENT
DTSTART;TZID=Europe/London:20260228T130000
DTEND;TZID=Europe/London:20260228T170000
DTSTAMP:20260423T105423
CREATED:20251002T111438Z
LAST-MODIFIED:20251002T111438Z
UID:29683-1772283600-1772298000@archersofraunds.co.uk
SUMMARY:Scoring Round: Portsmouth
DESCRIPTION:It will be a Portsmouth Round so will be as follows: \nDistance: 20yds (18m) – Arrows: 5 Dozen Arrows  – Target Face: 60cm single spot (3 spot for Compounds) \nThere will be two sighter ends consisting of 3 arrows per end.  All ends will be 3 arrows per end. \nThe 2 inner gold rings both count as 10 for recurve\, but only the inner ‘X’ ring counts 10 for a compound archer\, moving out to 9 for the outer gold\, 8 and 7 for the 2 red rings etc. down to 2 and 1 for the white rings. \nSighters will commence at 13:15 and the scoring round will be 13:25. \nLate arrivals will not be able to participate in the scoring round and may need to set up separate bosses (subject to room and availability) whilst the scoring round archers are scoring. \nIf you are not participating in the scoring round then you must not hold up the shooting line!
URL:https://archersofraunds.co.uk/event/scoring-round-portsmouth-54/
LOCATION:Archers of Raunds – Scoring Rounds\, Manor School Sports College\, Mountbatten Way\, Raunds\, NN9 6PA\, United Kingdom
CATEGORIES:Scoring Round
END:VEVENT
END:VCALENDAR