BEGIN:VCALENDAR
VERSION:2.0
PRODID:-//Archers of Raunds - ECPv6.15.17//NONSGML v1.0//EN
CALSCALE:GREGORIAN
METHOD:PUBLISH
X-ORIGINAL-URL:https://archersofraunds.co.uk
X-WR-CALDESC:Events for Archers of Raunds
REFRESH-INTERVAL;VALUE=DURATION:PT1H
X-Robots-Tag:noindex
X-PUBLISHED-TTL:PT1H
BEGIN:VTIMEZONE
TZID:UTC
BEGIN:STANDARD
TZOFFSETFROM:+0000
TZOFFSETTO:+0000
TZNAME:UTC
DTSTART:20210101T000000
END:STANDARD
END:VTIMEZONE
BEGIN:VTIMEZONE
TZID:Europe/London
BEGIN:DAYLIGHT
TZOFFSETFROM:+0000
TZOFFSETTO:+0100
TZNAME:BST
DTSTART:20220327T010000
END:DAYLIGHT
BEGIN:STANDARD
TZOFFSETFROM:+0100
TZOFFSETTO:+0000
TZNAME:GMT
DTSTART:20221030T010000
END:STANDARD
BEGIN:DAYLIGHT
TZOFFSETFROM:+0000
TZOFFSETTO:+0100
TZNAME:BST
DTSTART:20230326T010000
END:DAYLIGHT
BEGIN:STANDARD
TZOFFSETFROM:+0100
TZOFFSETTO:+0000
TZNAME:GMT
DTSTART:20231029T010000
END:STANDARD
BEGIN:DAYLIGHT
TZOFFSETFROM:+0000
TZOFFSETTO:+0100
TZNAME:BST
DTSTART:20240331T010000
END:DAYLIGHT
BEGIN:STANDARD
TZOFFSETFROM:+0100
TZOFFSETTO:+0000
TZNAME:GMT
DTSTART:20241027T010000
END:STANDARD
END:VTIMEZONE
BEGIN:VEVENT
DTSTART;TZID=UTC:20250228T190000
DTEND;TZID=UTC:20250228T210000
DTSTAMP:20260423T093441
CREATED:20240925T090544Z
LAST-MODIFIED:20240925T090544Z
UID:25696-1740769200-1740776400@archersofraunds.co.uk
SUMMARY:Practice Sessions
DESCRIPTION:Practice sessions – half hall only.
URL:https://archersofraunds.co.uk/event/practice-sessions-40/
LOCATION:Archers of Raunds – Practice Sessions\, Manor School Sports College\, Mountbatten Way\, Raunds\, NN9 6PA\, United Kingdom
CATEGORIES:Practice Sessions
ATTACH;FMTTYPE=image/jpeg:https://archersofraunds.co.uk/wp-content/uploads/2019/09/marija-zaric-k-yf-LTqOuA-unsplash-e1573162658598.jpg
END:VEVENT
BEGIN:VEVENT
DTSTART;TZID=UTC:20250221T190000
DTEND;TZID=UTC:20250221T210000
DTSTAMP:20260423T093441
CREATED:20240925T090532Z
LAST-MODIFIED:20240925T090532Z
UID:25695-1740164400-1740171600@archersofraunds.co.uk
SUMMARY:Practice Sessions
DESCRIPTION:Practice sessions – half hall only.
URL:https://archersofraunds.co.uk/event/practice-sessions-39/
LOCATION:Archers of Raunds – Practice Sessions\, Manor School Sports College\, Mountbatten Way\, Raunds\, NN9 6PA\, United Kingdom
CATEGORIES:Practice Sessions
ATTACH;FMTTYPE=image/jpeg:https://archersofraunds.co.uk/wp-content/uploads/2019/09/marija-zaric-k-yf-LTqOuA-unsplash-e1573162658598.jpg
END:VEVENT
BEGIN:VEVENT
DTSTART;TZID=UTC:20250214T190000
DTEND;TZID=UTC:20250214T210000
DTSTAMP:20260423T093441
CREATED:20240925T090517Z
LAST-MODIFIED:20240925T090517Z
UID:25694-1739559600-1739566800@archersofraunds.co.uk
SUMMARY:Practice Sessions
DESCRIPTION:Practice sessions – half hall only.
URL:https://archersofraunds.co.uk/event/practice-sessions-38/
LOCATION:Archers of Raunds – Practice Sessions\, Manor School Sports College\, Mountbatten Way\, Raunds\, NN9 6PA\, United Kingdom
CATEGORIES:Practice Sessions
ATTACH;FMTTYPE=image/jpeg:https://archersofraunds.co.uk/wp-content/uploads/2019/09/marija-zaric-k-yf-LTqOuA-unsplash-e1573162658598.jpg
END:VEVENT
BEGIN:VEVENT
DTSTART;TZID=UTC:20250207T190000
DTEND;TZID=UTC:20250207T210000
DTSTAMP:20260423T093441
CREATED:20240925T090505Z
LAST-MODIFIED:20240925T090505Z
UID:25693-1738954800-1738962000@archersofraunds.co.uk
SUMMARY:Practice Sessions
DESCRIPTION:Practice sessions – half hall only.
URL:https://archersofraunds.co.uk/event/practice-sessions-37/
LOCATION:Archers of Raunds – Practice Sessions\, Manor School Sports College\, Mountbatten Way\, Raunds\, NN9 6PA\, United Kingdom
CATEGORIES:Practice Sessions
ATTACH;FMTTYPE=image/jpeg:https://archersofraunds.co.uk/wp-content/uploads/2019/09/marija-zaric-k-yf-LTqOuA-unsplash-e1573162658598.jpg
END:VEVENT
BEGIN:VEVENT
DTSTART;TZID=UTC:20250131T190000
DTEND;TZID=UTC:20250131T210000
DTSTAMP:20260423T093441
CREATED:20240925T090452Z
LAST-MODIFIED:20240925T090452Z
UID:25692-1738350000-1738357200@archersofraunds.co.uk
SUMMARY:Practice Sessions
DESCRIPTION:Practice sessions – half hall only.
URL:https://archersofraunds.co.uk/event/practice-sessions-36/
LOCATION:Archers of Raunds – Practice Sessions\, Manor School Sports College\, Mountbatten Way\, Raunds\, NN9 6PA\, United Kingdom
CATEGORIES:Practice Sessions
ATTACH;FMTTYPE=image/jpeg:https://archersofraunds.co.uk/wp-content/uploads/2019/09/marija-zaric-k-yf-LTqOuA-unsplash-e1573162658598.jpg
END:VEVENT
BEGIN:VEVENT
DTSTART;TZID=UTC:20250124T190000
DTEND;TZID=UTC:20250124T210000
DTSTAMP:20260423T093441
CREATED:20240925T090055Z
LAST-MODIFIED:20240925T090055Z
UID:25686-1737745200-1737752400@archersofraunds.co.uk
SUMMARY:Practice Sessions
DESCRIPTION:Practice sessions – half hall only.
URL:https://archersofraunds.co.uk/event/practice-sessions-35/
LOCATION:Archers of Raunds – Practice Sessions\, Manor School Sports College\, Mountbatten Way\, Raunds\, NN9 6PA\, United Kingdom
CATEGORIES:Practice Sessions
ATTACH;FMTTYPE=image/jpeg:https://archersofraunds.co.uk/wp-content/uploads/2019/09/marija-zaric-k-yf-LTqOuA-unsplash-e1573162658598.jpg
END:VEVENT
BEGIN:VEVENT
DTSTART;TZID=UTC:20250117T190000
DTEND;TZID=UTC:20250117T210000
DTSTAMP:20260423T093441
CREATED:20240925T090040Z
LAST-MODIFIED:20240925T090040Z
UID:25685-1737140400-1737147600@archersofraunds.co.uk
SUMMARY:Practice Sessions
DESCRIPTION:Practice sessions – half hall only.
URL:https://archersofraunds.co.uk/event/practice-sessions-34/
LOCATION:Archers of Raunds – Practice Sessions\, Manor School Sports College\, Mountbatten Way\, Raunds\, NN9 6PA\, United Kingdom
CATEGORIES:Practice Sessions
ATTACH;FMTTYPE=image/jpeg:https://archersofraunds.co.uk/wp-content/uploads/2019/09/marija-zaric-k-yf-LTqOuA-unsplash-e1573162658598.jpg
END:VEVENT
BEGIN:VEVENT
DTSTART;TZID=UTC:20250110T190000
DTEND;TZID=UTC:20250110T210000
DTSTAMP:20260423T093441
CREATED:20240925T090025Z
LAST-MODIFIED:20240925T090025Z
UID:25684-1736535600-1736542800@archersofraunds.co.uk
SUMMARY:Practice Sessions
DESCRIPTION:Practice sessions – half hall only.
URL:https://archersofraunds.co.uk/event/practice-sessions-33/
LOCATION:Archers of Raunds – Practice Sessions\, Manor School Sports College\, Mountbatten Way\, Raunds\, NN9 6PA\, United Kingdom
CATEGORIES:Practice Sessions
ATTACH;FMTTYPE=image/jpeg:https://archersofraunds.co.uk/wp-content/uploads/2019/09/marija-zaric-k-yf-LTqOuA-unsplash-e1573162658598.jpg
END:VEVENT
BEGIN:VEVENT
DTSTART;TZID=UTC:20250103T190000
DTEND;TZID=UTC:20250103T210000
DTSTAMP:20260423T093441
CREATED:20240925T090012Z
LAST-MODIFIED:20240925T090012Z
UID:25683-1735930800-1735938000@archersofraunds.co.uk
SUMMARY:Practice Sessions
DESCRIPTION:Practice sessions – half hall only.
URL:https://archersofraunds.co.uk/event/practice-sessions-32/
LOCATION:Archers of Raunds – Practice Sessions\, Manor School Sports College\, Mountbatten Way\, Raunds\, NN9 6PA\, United Kingdom
CATEGORIES:Practice Sessions
ATTACH;FMTTYPE=image/jpeg:https://archersofraunds.co.uk/wp-content/uploads/2019/09/marija-zaric-k-yf-LTqOuA-unsplash-e1573162658598.jpg
END:VEVENT
BEGIN:VEVENT
DTSTART;TZID=UTC:20241227T190000
DTEND;TZID=UTC:20241227T210000
DTSTAMP:20260423T093441
CREATED:20240925T085956Z
LAST-MODIFIED:20240925T085956Z
UID:25682-1735326000-1735333200@archersofraunds.co.uk
SUMMARY:Practice Sessions
DESCRIPTION:Practice sessions – half hall only.
URL:https://archersofraunds.co.uk/event/practice-sessions-31/
LOCATION:Archers of Raunds – Practice Sessions\, Manor School Sports College\, Mountbatten Way\, Raunds\, NN9 6PA\, United Kingdom
CATEGORIES:Practice Sessions
ATTACH;FMTTYPE=image/jpeg:https://archersofraunds.co.uk/wp-content/uploads/2019/09/marija-zaric-k-yf-LTqOuA-unsplash-e1573162658598.jpg
END:VEVENT
BEGIN:VEVENT
DTSTART;TZID=UTC:20241122T190000
DTEND;TZID=UTC:20241122T210000
DTSTAMP:20260423T093441
CREATED:20240925T085750Z
LAST-MODIFIED:20240925T085750Z
UID:25680-1732302000-1732309200@archersofraunds.co.uk
SUMMARY:Practice Sessions
DESCRIPTION:Practice sessions – half hall only.
URL:https://archersofraunds.co.uk/event/practice-sessions-30/
LOCATION:Archers of Raunds – Practice Sessions\, Manor School Sports College\, Mountbatten Way\, Raunds\, NN9 6PA\, United Kingdom
CATEGORIES:Practice Sessions
ATTACH;FMTTYPE=image/jpeg:https://archersofraunds.co.uk/wp-content/uploads/2019/09/marija-zaric-k-yf-LTqOuA-unsplash-e1573162658598.jpg
END:VEVENT
BEGIN:VEVENT
DTSTART;TZID=UTC:20241115T190000
DTEND;TZID=UTC:20241115T210000
DTSTAMP:20260423T093441
CREATED:20240924T103816Z
LAST-MODIFIED:20240924T103816Z
UID:25658-1731697200-1731704400@archersofraunds.co.uk
SUMMARY:Practice Sessions
DESCRIPTION:Practice sessions – half hall only.
URL:https://archersofraunds.co.uk/event/practice-sessions-29/
LOCATION:Archers of Raunds – Practice Sessions\, Manor School Sports College\, Mountbatten Way\, Raunds\, NN9 6PA\, United Kingdom
CATEGORIES:Practice Sessions
ATTACH;FMTTYPE=image/jpeg:https://archersofraunds.co.uk/wp-content/uploads/2019/09/marija-zaric-k-yf-LTqOuA-unsplash-e1573162658598.jpg
END:VEVENT
BEGIN:VEVENT
DTSTART;TZID=UTC:20241108T190000
DTEND;TZID=UTC:20241108T210000
DTSTAMP:20260423T093441
CREATED:20240924T103655Z
LAST-MODIFIED:20240924T103655Z
UID:25656-1731092400-1731099600@archersofraunds.co.uk
SUMMARY:Practice Sessions
DESCRIPTION:Practice sessions – half hall only.
URL:https://archersofraunds.co.uk/event/practice-sessions-28/
LOCATION:Archers of Raunds – Practice Sessions\, Manor School Sports College\, Mountbatten Way\, Raunds\, NN9 6PA\, United Kingdom
CATEGORIES:Practice Sessions
ATTACH;FMTTYPE=image/jpeg:https://archersofraunds.co.uk/wp-content/uploads/2019/09/marija-zaric-k-yf-LTqOuA-unsplash-e1573162658598.jpg
END:VEVENT
BEGIN:VEVENT
DTSTART;TZID=UTC:20241101T190000
DTEND;TZID=UTC:20241101T210000
DTSTAMP:20260423T093441
CREATED:20240924T103514Z
LAST-MODIFIED:20240924T103514Z
UID:25654-1730487600-1730494800@archersofraunds.co.uk
SUMMARY:Practice Sessions
DESCRIPTION:Practice sessions – half hall only.
URL:https://archersofraunds.co.uk/event/practice-sessions-27/
LOCATION:Archers of Raunds – Practice Sessions\, Manor School Sports College\, Mountbatten Way\, Raunds\, NN9 6PA\, United Kingdom
CATEGORIES:Practice Sessions
ATTACH;FMTTYPE=image/jpeg:https://archersofraunds.co.uk/wp-content/uploads/2019/09/marija-zaric-k-yf-LTqOuA-unsplash-e1573162658598.jpg
END:VEVENT
BEGIN:VEVENT
DTSTART;TZID=Europe/London:20230401T100000
DTEND;TZID=Europe/London:20230401T190000
DTSTAMP:20260423T093441
CREATED:20220930T112842Z
LAST-MODIFIED:20220930T112842Z
UID:21668-1680343200-1680375600@archersofraunds.co.uk
SUMMARY:Outdoor Season Starts
DESCRIPTION:We move outdoors into the cold!!
URL:https://archersofraunds.co.uk/event/outdoor-season-starts-2/
CATEGORIES:Practice Sessions
END:VEVENT
BEGIN:VEVENT
DTSTART;TZID=UTC:20230331T190000
DTEND;TZID=UTC:20230331T210000
DTSTAMP:20260423T093441
CREATED:20220930T112530Z
LAST-MODIFIED:20220930T112530Z
UID:21652-1680289200-1680296400@archersofraunds.co.uk
SUMMARY:Practice Sessions
DESCRIPTION:Practice sessions and beginners courses.
URL:https://archersofraunds.co.uk/event/practice-sessions-26/
LOCATION:Archers of Raunds – Practice Sessions\, Manor School Sports College\, Mountbatten Way\, Raunds\, NN9 6PA\, United Kingdom
CATEGORIES:Practice Sessions
ATTACH;FMTTYPE=image/jpeg:https://archersofraunds.co.uk/wp-content/uploads/2019/09/marija-zaric-k-yf-LTqOuA-unsplash-e1573162658598.jpg
END:VEVENT
BEGIN:VEVENT
DTSTART;TZID=UTC:20230324T190000
DTEND;TZID=UTC:20230324T210000
DTSTAMP:20260423T093441
CREATED:20220930T112243Z
LAST-MODIFIED:20220930T112243Z
UID:21653-1679684400-1679691600@archersofraunds.co.uk
SUMMARY:Practice Sessions
DESCRIPTION:Practice sessions and beginners courses.
URL:https://archersofraunds.co.uk/event/practice-sessions-25/
LOCATION:Archers of Raunds – Practice Sessions\, Manor School Sports College\, Mountbatten Way\, Raunds\, NN9 6PA\, United Kingdom
CATEGORIES:Practice Sessions
ATTACH;FMTTYPE=image/jpeg:https://archersofraunds.co.uk/wp-content/uploads/2019/09/marija-zaric-k-yf-LTqOuA-unsplash-e1573162658598.jpg
END:VEVENT
BEGIN:VEVENT
DTSTART;TZID=UTC:20230317T190000
DTEND;TZID=UTC:20230317T210000
DTSTAMP:20260423T093441
CREATED:20220930T112216Z
LAST-MODIFIED:20220930T112216Z
UID:21654-1679079600-1679086800@archersofraunds.co.uk
SUMMARY:Practice Sessions
DESCRIPTION:Practice sessions and beginners courses.
URL:https://archersofraunds.co.uk/event/practice-sessions-24/
LOCATION:Archers of Raunds – Practice Sessions\, Manor School Sports College\, Mountbatten Way\, Raunds\, NN9 6PA\, United Kingdom
CATEGORIES:Practice Sessions
ATTACH;FMTTYPE=image/jpeg:https://archersofraunds.co.uk/wp-content/uploads/2019/09/marija-zaric-k-yf-LTqOuA-unsplash-e1573162658598.jpg
END:VEVENT
BEGIN:VEVENT
DTSTART;TZID=UTC:20230310T190000
DTEND;TZID=UTC:20230310T210000
DTSTAMP:20260423T093441
CREATED:20220930T112151Z
LAST-MODIFIED:20220930T112151Z
UID:21655-1678474800-1678482000@archersofraunds.co.uk
SUMMARY:Practice Sessions
DESCRIPTION:Practice sessions and beginners courses.
URL:https://archersofraunds.co.uk/event/practice-sessions-23/
LOCATION:Archers of Raunds – Practice Sessions\, Manor School Sports College\, Mountbatten Way\, Raunds\, NN9 6PA\, United Kingdom
CATEGORIES:Practice Sessions
ATTACH;FMTTYPE=image/jpeg:https://archersofraunds.co.uk/wp-content/uploads/2019/09/marija-zaric-k-yf-LTqOuA-unsplash-e1573162658598.jpg
END:VEVENT
BEGIN:VEVENT
DTSTART;TZID=UTC:20230303T190000
DTEND;TZID=UTC:20230303T210000
DTSTAMP:20260423T093441
CREATED:20220930T112056Z
LAST-MODIFIED:20220930T112056Z
UID:21656-1677870000-1677877200@archersofraunds.co.uk
SUMMARY:Practice Sessions
DESCRIPTION:Practice sessions and beginners courses.
URL:https://archersofraunds.co.uk/event/practice-sessions-22/
LOCATION:Archers of Raunds – Practice Sessions\, Manor School Sports College\, Mountbatten Way\, Raunds\, NN9 6PA\, United Kingdom
CATEGORIES:Practice Sessions
ATTACH;FMTTYPE=image/jpeg:https://archersofraunds.co.uk/wp-content/uploads/2019/09/marija-zaric-k-yf-LTqOuA-unsplash-e1573162658598.jpg
END:VEVENT
BEGIN:VEVENT
DTSTART;TZID=UTC:20230224T190000
DTEND;TZID=UTC:20230224T210000
DTSTAMP:20260423T093441
CREATED:20220930T112021Z
LAST-MODIFIED:20220930T112021Z
UID:21657-1677265200-1677272400@archersofraunds.co.uk
SUMMARY:Practice Sessions
DESCRIPTION:Practice sessions and beginners courses.
URL:https://archersofraunds.co.uk/event/practice-sessions-21/
LOCATION:Archers of Raunds – Practice Sessions\, Manor School Sports College\, Mountbatten Way\, Raunds\, NN9 6PA\, United Kingdom
CATEGORIES:Practice Sessions
ATTACH;FMTTYPE=image/jpeg:https://archersofraunds.co.uk/wp-content/uploads/2019/09/marija-zaric-k-yf-LTqOuA-unsplash-e1573162658598.jpg
END:VEVENT
BEGIN:VEVENT
DTSTART;TZID=UTC:20230217T190000
DTEND;TZID=UTC:20230217T210000
DTSTAMP:20260423T093441
CREATED:20220930T111956Z
LAST-MODIFIED:20220930T111956Z
UID:21658-1676660400-1676667600@archersofraunds.co.uk
SUMMARY:Practice Sessions
DESCRIPTION:Practice sessions and beginners courses.
URL:https://archersofraunds.co.uk/event/practice-sessions-20/
LOCATION:Archers of Raunds – Practice Sessions\, Manor School Sports College\, Mountbatten Way\, Raunds\, NN9 6PA\, United Kingdom
CATEGORIES:Practice Sessions
ATTACH;FMTTYPE=image/jpeg:https://archersofraunds.co.uk/wp-content/uploads/2019/09/marija-zaric-k-yf-LTqOuA-unsplash-e1573162658598.jpg
END:VEVENT
BEGIN:VEVENT
DTSTART;TZID=UTC:20230210T190000
DTEND;TZID=UTC:20230210T210000
DTSTAMP:20260423T093441
CREATED:20220930T111929Z
LAST-MODIFIED:20220930T111929Z
UID:21659-1676055600-1676062800@archersofraunds.co.uk
SUMMARY:Practice Sessions
DESCRIPTION:Practice sessions and beginners courses.
URL:https://archersofraunds.co.uk/event/practice-sessions-19/
LOCATION:Archers of Raunds – Practice Sessions\, Manor School Sports College\, Mountbatten Way\, Raunds\, NN9 6PA\, United Kingdom
CATEGORIES:Practice Sessions
ATTACH;FMTTYPE=image/jpeg:https://archersofraunds.co.uk/wp-content/uploads/2019/09/marija-zaric-k-yf-LTqOuA-unsplash-e1573162658598.jpg
END:VEVENT
BEGIN:VEVENT
DTSTART;TZID=UTC:20230203T190000
DTEND;TZID=UTC:20230203T210000
DTSTAMP:20260423T093441
CREATED:20220930T111328Z
LAST-MODIFIED:20220930T111328Z
UID:21618-1675450800-1675458000@archersofraunds.co.uk
SUMMARY:Practice Sessions
DESCRIPTION:Practice sessions and beginners courses.
URL:https://archersofraunds.co.uk/event/practice-sessions-18/
LOCATION:Archers of Raunds – Practice Sessions\, Manor School Sports College\, Mountbatten Way\, Raunds\, NN9 6PA\, United Kingdom
CATEGORIES:Practice Sessions
ATTACH;FMTTYPE=image/jpeg:https://archersofraunds.co.uk/wp-content/uploads/2019/09/marija-zaric-k-yf-LTqOuA-unsplash-e1573162658598.jpg
END:VEVENT
BEGIN:VEVENT
DTSTART;TZID=UTC:20230127T190000
DTEND;TZID=UTC:20230127T210000
DTSTAMP:20260423T093441
CREATED:20220930T111255Z
LAST-MODIFIED:20220930T111255Z
UID:21620-1674846000-1674853200@archersofraunds.co.uk
SUMMARY:Practice Sessions
DESCRIPTION:Practice sessions and beginners courses.
URL:https://archersofraunds.co.uk/event/practice-sessions-17/
LOCATION:Archers of Raunds – Practice Sessions\, Manor School Sports College\, Mountbatten Way\, Raunds\, NN9 6PA\, United Kingdom
CATEGORIES:Practice Sessions
ATTACH;FMTTYPE=image/jpeg:https://archersofraunds.co.uk/wp-content/uploads/2019/09/marija-zaric-k-yf-LTqOuA-unsplash-e1573162658598.jpg
END:VEVENT
BEGIN:VEVENT
DTSTART;TZID=UTC:20230120T190000
DTEND;TZID=UTC:20230120T210000
DTSTAMP:20260423T093441
CREATED:20220930T111231Z
LAST-MODIFIED:20220930T111231Z
UID:21636-1674241200-1674248400@archersofraunds.co.uk
SUMMARY:Practice Sessions
DESCRIPTION:Practice sessions and beginners courses.
URL:https://archersofraunds.co.uk/event/practice-sessions-16/
LOCATION:Archers of Raunds – Practice Sessions\, Manor School Sports College\, Mountbatten Way\, Raunds\, NN9 6PA\, United Kingdom
CATEGORIES:Practice Sessions
ATTACH;FMTTYPE=image/jpeg:https://archersofraunds.co.uk/wp-content/uploads/2019/09/marija-zaric-k-yf-LTqOuA-unsplash-e1573162658598.jpg
END:VEVENT
BEGIN:VEVENT
DTSTART;TZID=UTC:20230113T190000
DTEND;TZID=UTC:20230113T210000
DTSTAMP:20260423T093441
CREATED:20220930T111209Z
LAST-MODIFIED:20220930T111209Z
UID:21637-1673636400-1673643600@archersofraunds.co.uk
SUMMARY:Practice Sessions
DESCRIPTION:Practice sessions and beginners courses.
URL:https://archersofraunds.co.uk/event/practice-sessions-15/
LOCATION:Archers of Raunds – Practice Sessions\, Manor School Sports College\, Mountbatten Way\, Raunds\, NN9 6PA\, United Kingdom
CATEGORIES:Practice Sessions
ATTACH;FMTTYPE=image/jpeg:https://archersofraunds.co.uk/wp-content/uploads/2019/09/marija-zaric-k-yf-LTqOuA-unsplash-e1573162658598.jpg
END:VEVENT
BEGIN:VEVENT
DTSTART;TZID=UTC:20230106T190000
DTEND;TZID=UTC:20230106T210000
DTSTAMP:20260423T093441
CREATED:20220930T111132Z
LAST-MODIFIED:20220930T111145Z
UID:21638-1673031600-1673038800@archersofraunds.co.uk
SUMMARY:Practice Sessions
DESCRIPTION:Practice sessions and beginners courses.
URL:https://archersofraunds.co.uk/event/practice-sessions-14/
LOCATION:Archers of Raunds – Practice Sessions\, Manor School Sports College\, Mountbatten Way\, Raunds\, NN9 6PA\, United Kingdom
CATEGORIES:Practice Sessions
ATTACH;FMTTYPE=image/jpeg:https://archersofraunds.co.uk/wp-content/uploads/2019/09/marija-zaric-k-yf-LTqOuA-unsplash-e1573162658598.jpg
END:VEVENT
BEGIN:VEVENT
DTSTART;TZID=UTC:20221230T190000
DTEND;TZID=UTC:20221230T210000
DTSTAMP:20260423T093441
CREATED:20220930T111051Z
LAST-MODIFIED:20220930T111051Z
UID:21639-1672426800-1672434000@archersofraunds.co.uk
SUMMARY:Practice Sessions
DESCRIPTION:Practice sessions and beginners courses.
URL:https://archersofraunds.co.uk/event/practice-sessions-13/
LOCATION:Archers of Raunds – Practice Sessions\, Manor School Sports College\, Mountbatten Way\, Raunds\, NN9 6PA\, United Kingdom
CATEGORIES:Practice Sessions
ATTACH;FMTTYPE=image/jpeg:https://archersofraunds.co.uk/wp-content/uploads/2019/09/marija-zaric-k-yf-LTqOuA-unsplash-e1573162658598.jpg
END:VEVENT
BEGIN:VEVENT
DTSTART;TZID=UTC:20221223T190000
DTEND;TZID=UTC:20221223T210000
DTSTAMP:20260423T093441
CREATED:20220930T111028Z
LAST-MODIFIED:20220930T111028Z
UID:21640-1671822000-1671829200@archersofraunds.co.uk
SUMMARY:Practice Sessions
DESCRIPTION:Practice sessions and beginners courses.
URL:https://archersofraunds.co.uk/event/practice-sessions-12/
LOCATION:Archers of Raunds – Practice Sessions\, Manor School Sports College\, Mountbatten Way\, Raunds\, NN9 6PA\, United Kingdom
CATEGORIES:Practice Sessions
ATTACH;FMTTYPE=image/jpeg:https://archersofraunds.co.uk/wp-content/uploads/2019/09/marija-zaric-k-yf-LTqOuA-unsplash-e1573162658598.jpg
END:VEVENT
END:VCALENDAR