BEGIN:VCALENDAR
VERSION:2.0
PRODID:-//Archers of Raunds - ECPv6.15.17//NONSGML v1.0//EN
CALSCALE:GREGORIAN
METHOD:PUBLISH
X-WR-CALNAME:Archers of Raunds
X-ORIGINAL-URL:https://archersofraunds.co.uk
X-WR-CALDESC:Events for Archers of Raunds
REFRESH-INTERVAL;VALUE=DURATION:PT1H
X-Robots-Tag:noindex
X-PUBLISHED-TTL:PT1H
BEGIN:VTIMEZONE
TZID:Europe/London
BEGIN:DAYLIGHT
TZOFFSETFROM:+0000
TZOFFSETTO:+0100
TZNAME:BST
DTSTART:20250330T010000
END:DAYLIGHT
BEGIN:STANDARD
TZOFFSETFROM:+0100
TZOFFSETTO:+0000
TZNAME:GMT
DTSTART:20251026T010000
END:STANDARD
BEGIN:DAYLIGHT
TZOFFSETFROM:+0000
TZOFFSETTO:+0100
TZNAME:BST
DTSTART:20260329T010000
END:DAYLIGHT
BEGIN:STANDARD
TZOFFSETFROM:+0100
TZOFFSETTO:+0000
TZNAME:GMT
DTSTART:20261025T010000
END:STANDARD
BEGIN:DAYLIGHT
TZOFFSETFROM:+0000
TZOFFSETTO:+0100
TZNAME:BST
DTSTART:20270328T010000
END:DAYLIGHT
BEGIN:STANDARD
TZOFFSETFROM:+0100
TZOFFSETTO:+0000
TZNAME:GMT
DTSTART:20271031T010000
END:STANDARD
END:VTIMEZONE
BEGIN:VEVENT
DTSTART;TZID=Europe/London:20260301T100000
DTEND;TZID=Europe/London:20260301T130000
DTSTAMP:20260421T111502
CREATED:20251002T111515Z
LAST-MODIFIED:20260217T175330Z
UID:29684-1772359200-1772370000@archersofraunds.co.uk
SUMMARY:County Match: Northants v Beds Portsmouth
DESCRIPTION:This is a County Match so is by Invitation Only!! \nIt will be a Portsmouth Round so will be as follows: \nDistance: 20yds (18m) – Arrows: 5 Dozen Arrows  – Target Face: 60cm single spot (3 spot for Compounds) \nThere will be two sighter ends consisting of 3 arrows per end.  All ends will be 3 arrows per end. \nThe 2 inner gold rings both count as 10 for recurve\, but only the inner ‘X’ ring counts 10 for a compound archer\, moving out to 9 for the outer gold\, 8 and 7 for the 2 red rings etc. down to 2 and 1 for the white rings. \nSighters will commence at 10:15 and the scoring round will be 10:25. \nLate arrivals will not be able to participate in the scoring round and may need to set up separate bosses (subject to room and availability) whilst the scoring round archers are scoring. \nIf you are not participating in the scoring round then you must not hold up the shooting line!
URL:https://archersofraunds.co.uk/event/scoring-round-portsmouth-55/
LOCATION:Archers of Raunds – Tournaments\, Manor School Sports College\, Mountbatten Way\, Raunds\, NN9 6PA\, United Kingdom
CATEGORIES:County Match
END:VEVENT
END:VCALENDAR