BEGIN:VCALENDAR
VERSION:2.0
PRODID:-//Archers of Raunds - ECPv6.15.17//NONSGML v1.0//EN
CALSCALE:GREGORIAN
METHOD:PUBLISH
X-ORIGINAL-URL:https://archersofraunds.co.uk
X-WR-CALDESC:Events for Archers of Raunds
REFRESH-INTERVAL;VALUE=DURATION:PT1H
X-Robots-Tag:noindex
X-PUBLISHED-TTL:PT1H
BEGIN:VTIMEZONE
TZID:Europe/London
BEGIN:DAYLIGHT
TZOFFSETFROM:+0000
TZOFFSETTO:+0100
TZNAME:BST
DTSTART:20210328T010000
END:DAYLIGHT
BEGIN:STANDARD
TZOFFSETFROM:+0100
TZOFFSETTO:+0000
TZNAME:GMT
DTSTART:20211031T010000
END:STANDARD
BEGIN:DAYLIGHT
TZOFFSETFROM:+0000
TZOFFSETTO:+0100
TZNAME:BST
DTSTART:20220327T010000
END:DAYLIGHT
BEGIN:STANDARD
TZOFFSETFROM:+0100
TZOFFSETTO:+0000
TZNAME:GMT
DTSTART:20221030T010000
END:STANDARD
BEGIN:DAYLIGHT
TZOFFSETFROM:+0000
TZOFFSETTO:+0100
TZNAME:BST
DTSTART:20230326T010000
END:DAYLIGHT
BEGIN:STANDARD
TZOFFSETFROM:+0100
TZOFFSETTO:+0000
TZNAME:GMT
DTSTART:20231029T010000
END:STANDARD
BEGIN:DAYLIGHT
TZOFFSETFROM:+0000
TZOFFSETTO:+0100
TZNAME:BST
DTSTART:20240331T010000
END:DAYLIGHT
BEGIN:STANDARD
TZOFFSETFROM:+0100
TZOFFSETTO:+0000
TZNAME:GMT
DTSTART:20241027T010000
END:STANDARD
BEGIN:DAYLIGHT
TZOFFSETFROM:+0000
TZOFFSETTO:+0100
TZNAME:BST
DTSTART:20250330T010000
END:DAYLIGHT
BEGIN:STANDARD
TZOFFSETFROM:+0100
TZOFFSETTO:+0000
TZNAME:GMT
DTSTART:20251026T010000
END:STANDARD
BEGIN:DAYLIGHT
TZOFFSETFROM:+0000
TZOFFSETTO:+0100
TZNAME:BST
DTSTART:20260329T010000
END:DAYLIGHT
BEGIN:STANDARD
TZOFFSETFROM:+0100
TZOFFSETTO:+0000
TZNAME:GMT
DTSTART:20261025T010000
END:STANDARD
BEGIN:DAYLIGHT
TZOFFSETFROM:+0000
TZOFFSETTO:+0100
TZNAME:BST
DTSTART:20270328T010000
END:DAYLIGHT
BEGIN:STANDARD
TZOFFSETFROM:+0100
TZOFFSETTO:+0000
TZNAME:GMT
DTSTART:20271031T010000
END:STANDARD
END:VTIMEZONE
BEGIN:VEVENT
DTSTART;TZID=Europe/London:20260413T193000
DTEND;TZID=Europe/London:20260413T220000
DTSTAMP:20260422T101952
CREATED:20250519T200012Z
LAST-MODIFIED:20250519T200012Z
UID:29321-1776108600-1776117600@archersofraunds.co.uk
SUMMARY:AGM and Awards Night
DESCRIPTION:AGM
URL:https://archersofraunds.co.uk/event/agm-and-awards-night/
LOCATION:31 Marshall’s Rd\, Raunds\, Wellingborough NN9 6ET\, 31 Marshall's Rd\, Raunds\, Wellingborough\, NN9 6ET
CATEGORIES:Committee Meetings
ATTACH;FMTTYPE=image/jpeg:https://archersofraunds.co.uk/wp-content/uploads/2019/09/sports-college.jpg
ORGANIZER;CN="Tony Parkin":MAILTO:tournamentofficer@archersofraunds.co.uk
END:VEVENT
BEGIN:VEVENT
DTSTART;TZID=Europe/London:20260302T200000
DTEND;TZID=Europe/London:20260302T220000
DTSTAMP:20260422T101952
CREATED:20250519T195853Z
LAST-MODIFIED:20250519T195853Z
UID:29319-1772481600-1772488800@archersofraunds.co.uk
SUMMARY:Committee Meeting
DESCRIPTION:Discuss club matters
URL:https://archersofraunds.co.uk/event/committee-meeting-39/
CATEGORIES:Committee Meetings
ATTACH;FMTTYPE=image/jpeg:https://archersofraunds.co.uk/wp-content/uploads/2019/09/sports-college.jpg
ORGANIZER;CN="Tony Parkin":MAILTO:tournamentofficer@archersofraunds.co.uk
END:VEVENT
BEGIN:VEVENT
DTSTART;TZID=Europe/London:20260105T200000
DTEND;TZID=Europe/London:20260105T220000
DTSTAMP:20260422T101952
CREATED:20250519T195813Z
LAST-MODIFIED:20251212T150758Z
UID:29317-1767643200-1767650400@archersofraunds.co.uk
SUMMARY:Committee Meeting
DESCRIPTION:Discuss club matters
URL:https://archersofraunds.co.uk/event/committee-meeting-38/
CATEGORIES:Committee Meetings
ATTACH;FMTTYPE=image/jpeg:https://archersofraunds.co.uk/wp-content/uploads/2019/09/sports-college.jpg
ORGANIZER;CN="Tony Parkin":MAILTO:tournamentofficer@archersofraunds.co.uk
END:VEVENT
BEGIN:VEVENT
DTSTART;TZID=Europe/London:20251124T200000
DTEND;TZID=Europe/London:20251124T220000
DTSTAMP:20260422T101952
CREATED:20250519T195731Z
LAST-MODIFIED:20250519T195731Z
UID:29315-1764014400-1764021600@archersofraunds.co.uk
SUMMARY:Committee Meeting
DESCRIPTION:Discuss club matters
URL:https://archersofraunds.co.uk/event/committee-meeting-37/
CATEGORIES:Committee Meetings
ATTACH;FMTTYPE=image/jpeg:https://archersofraunds.co.uk/wp-content/uploads/2019/09/sports-college.jpg
ORGANIZER;CN="Tony Parkin":MAILTO:tournamentofficer@archersofraunds.co.uk
END:VEVENT
BEGIN:VEVENT
DTSTART;TZID=Europe/London:20251013T200000
DTEND;TZID=Europe/London:20251013T220000
DTSTAMP:20260422T101952
CREATED:20250519T195640Z
LAST-MODIFIED:20250519T195640Z
UID:29313-1760385600-1760392800@archersofraunds.co.uk
SUMMARY:Committee Meeting
DESCRIPTION:Discuss club matters
URL:https://archersofraunds.co.uk/event/committee-meeting-36/
CATEGORIES:Committee Meetings
ATTACH;FMTTYPE=image/jpeg:https://archersofraunds.co.uk/wp-content/uploads/2019/09/sports-college.jpg
ORGANIZER;CN="Tony Parkin":MAILTO:tournamentofficer@archersofraunds.co.uk
END:VEVENT
BEGIN:VEVENT
DTSTART;TZID=Europe/London:20250818T200000
DTEND;TZID=Europe/London:20250818T220000
DTSTAMP:20260422T101952
CREATED:20250519T195504Z
LAST-MODIFIED:20250729T192926Z
UID:29309-1755547200-1755554400@archersofraunds.co.uk
SUMMARY:Committee Meeting
DESCRIPTION:Discuss club matters
URL:https://archersofraunds.co.uk/event/committee-meeting-35/
CATEGORIES:Committee Meetings
ATTACH;FMTTYPE=image/jpeg:https://archersofraunds.co.uk/wp-content/uploads/2019/09/sports-college.jpg
ORGANIZER;CN="Tony Parkin":MAILTO:tournamentofficer@archersofraunds.co.uk
END:VEVENT
BEGIN:VEVENT
DTSTART;TZID=Europe/London:20250714T200000
DTEND;TZID=Europe/London:20250714T220000
DTSTAMP:20260422T101952
CREATED:20250519T195313Z
LAST-MODIFIED:20250519T195313Z
UID:29307-1752523200-1752530400@archersofraunds.co.uk
SUMMARY:Committee Meeting
DESCRIPTION:Discuss club matters
URL:https://archersofraunds.co.uk/event/committee-meeting-34/
CATEGORIES:Committee Meetings
ATTACH;FMTTYPE=image/jpeg:https://archersofraunds.co.uk/wp-content/uploads/2019/09/sports-college.jpg
ORGANIZER;CN="Tony Parkin":MAILTO:tournamentofficer@archersofraunds.co.uk
END:VEVENT
BEGIN:VEVENT
DTSTART;TZID=Europe/London:20250602T200000
DTEND;TZID=Europe/London:20250602T220000
DTSTAMP:20260422T101952
CREATED:20250519T195201Z
LAST-MODIFIED:20250519T195201Z
UID:29305-1748894400-1748901600@archersofraunds.co.uk
SUMMARY:Committee Meeting
DESCRIPTION:Discuss club matters
URL:https://archersofraunds.co.uk/event/committee-meeting-33/
CATEGORIES:Committee Meetings
ATTACH;FMTTYPE=image/jpeg:https://archersofraunds.co.uk/wp-content/uploads/2019/09/sports-college.jpg
ORGANIZER;CN="Tony Parkin":MAILTO:tournamentofficer@archersofraunds.co.uk
END:VEVENT
BEGIN:VEVENT
DTSTART;TZID=Europe/London:20250414T193000
DTEND;TZID=Europe/London:20250414T220000
DTSTAMP:20260422T101952
CREATED:20240531T075220Z
LAST-MODIFIED:20250328T164438Z
UID:24157-1744659000-1744668000@archersofraunds.co.uk
SUMMARY:AGM and Awards Night
DESCRIPTION:AGM
URL:https://archersofraunds.co.uk/event/agm-meeting-3/
LOCATION:31 Marshall’s Rd\, Raunds\, Wellingborough NN9 6ET\, 31 Marshall's Rd\, Raunds\, Wellingborough\, NN9 6ET
CATEGORIES:Committee Meetings
ATTACH;FMTTYPE=image/jpeg:https://archersofraunds.co.uk/wp-content/uploads/2019/09/sports-college.jpg
ORGANIZER;CN="Tony Parkin":MAILTO:tournamentofficer@archersofraunds.co.uk
END:VEVENT
BEGIN:VEVENT
DTSTART;TZID=Europe/London:20250226T200000
DTEND;TZID=Europe/London:20250226T220000
DTSTAMP:20260422T101952
CREATED:20240531T075935Z
LAST-MODIFIED:20250121T212113Z
UID:24160-1740600000-1740607200@archersofraunds.co.uk
SUMMARY:Committee Meeting
DESCRIPTION:Discuss club matters
URL:https://archersofraunds.co.uk/event/committee-meeting-32/
CATEGORIES:Committee Meetings
ATTACH;FMTTYPE=image/jpeg:https://archersofraunds.co.uk/wp-content/uploads/2019/09/sports-college.jpg
ORGANIZER;CN="Tony Parkin":MAILTO:tournamentofficer@archersofraunds.co.uk
END:VEVENT
BEGIN:VEVENT
DTSTART;TZID=Europe/London:20250120T200000
DTEND;TZID=Europe/London:20250120T220000
DTSTAMP:20260422T101952
CREATED:20240531T075840Z
LAST-MODIFIED:20240531T075840Z
UID:24162-1737403200-1737410400@archersofraunds.co.uk
SUMMARY:Committee Meeting
DESCRIPTION:Discuss club matters
URL:https://archersofraunds.co.uk/event/committee-meeting-31/
LOCATION:Archers of Raunds – Coaching\, Manor School Sports College\, Mountbatten Way\, Raunds\, NN9 6PA\, United Kingdom
CATEGORIES:Committee Meetings
ATTACH;FMTTYPE=image/jpeg:https://archersofraunds.co.uk/wp-content/uploads/2019/09/sports-college.jpg
ORGANIZER;CN="Cate Bromley":MAILTO:chair@archersofraunds.co.uk
END:VEVENT
BEGIN:VEVENT
DTSTART;TZID=Europe/London:20241209T200000
DTEND;TZID=Europe/London:20241209T220000
DTSTAMP:20260422T101952
CREATED:20240531T075737Z
LAST-MODIFIED:20240531T075737Z
UID:24161-1733774400-1733781600@archersofraunds.co.uk
SUMMARY:Committee Meeting
DESCRIPTION:Discuss club matters
URL:https://archersofraunds.co.uk/event/committee-meeting-30/
LOCATION:Archers of Raunds – Coaching\, Manor School Sports College\, Mountbatten Way\, Raunds\, NN9 6PA\, United Kingdom
CATEGORIES:Committee Meetings
ATTACH;FMTTYPE=image/jpeg:https://archersofraunds.co.uk/wp-content/uploads/2019/09/sports-college.jpg
ORGANIZER;CN="Cate Bromley":MAILTO:chair@archersofraunds.co.uk
END:VEVENT
BEGIN:VEVENT
DTSTART;TZID=Europe/London:20241028T200000
DTEND;TZID=Europe/London:20241028T220000
DTSTAMP:20260422T101952
CREATED:20240531T075633Z
LAST-MODIFIED:20240531T075633Z
UID:24159-1730145600-1730152800@archersofraunds.co.uk
SUMMARY:Committee Meeting
DESCRIPTION:Discuss club matters
URL:https://archersofraunds.co.uk/event/committee-meeting-29/
LOCATION:Archers of Raunds – Coaching\, Manor School Sports College\, Mountbatten Way\, Raunds\, NN9 6PA\, United Kingdom
CATEGORIES:Committee Meetings
ATTACH;FMTTYPE=image/jpeg:https://archersofraunds.co.uk/wp-content/uploads/2019/09/sports-college.jpg
ORGANIZER;CN="Cate Bromley":MAILTO:chair@archersofraunds.co.uk
END:VEVENT
BEGIN:VEVENT
DTSTART;TZID=Europe/London:20240916T200000
DTEND;TZID=Europe/London:20240916T220000
DTSTAMP:20260422T101952
CREATED:20240531T075526Z
LAST-MODIFIED:20240531T075526Z
UID:24163-1726516800-1726524000@archersofraunds.co.uk
SUMMARY:Committee Meeting
DESCRIPTION:Discuss club matters
URL:https://archersofraunds.co.uk/event/committee-meeting-28/
LOCATION:Archers of Raunds – Coaching\, Manor School Sports College\, Mountbatten Way\, Raunds\, NN9 6PA\, United Kingdom
CATEGORIES:Committee Meetings
ATTACH;FMTTYPE=image/jpeg:https://archersofraunds.co.uk/wp-content/uploads/2019/09/sports-college.jpg
ORGANIZER;CN="Cate Bromley":MAILTO:chair@archersofraunds.co.uk
END:VEVENT
BEGIN:VEVENT
DTSTART;TZID=Europe/London:20240812T200000
DTEND;TZID=Europe/London:20240812T220000
DTSTAMP:20260422T101952
CREATED:20240531T075415Z
LAST-MODIFIED:20240719T114934Z
UID:24164-1723492800-1723500000@archersofraunds.co.uk
SUMMARY:Committee Meeting
DESCRIPTION:Discuss club matters
URL:https://archersofraunds.co.uk/event/committee-meeting-27/
LOCATION:Archers of Raunds – Coaching\, Manor School Sports College\, Mountbatten Way\, Raunds\, NN9 6PA\, United Kingdom
CATEGORIES:Committee Meetings
ATTACH;FMTTYPE=image/jpeg:https://archersofraunds.co.uk/wp-content/uploads/2019/09/sports-college.jpg
ORGANIZER;CN="Cate Bromley":MAILTO:chair@archersofraunds.co.uk
END:VEVENT
BEGIN:VEVENT
DTSTART;TZID=Europe/London:20240617T200000
DTEND;TZID=Europe/London:20240617T220000
DTSTAMP:20260422T101952
CREATED:20240531T075317Z
LAST-MODIFIED:20240615T190449Z
UID:24158-1718654400-1718661600@archersofraunds.co.uk
SUMMARY:EGM Meeting
DESCRIPTION:Discuss new Chair and Secretary roles and if none appointed the possible dissolve of the club.
URL:https://archersofraunds.co.uk/event/committee-meeting-26/
LOCATION:Archers of Raunds – Coaching\, Manor School Sports College\, Mountbatten Way\, Raunds\, NN9 6PA\, United Kingdom
CATEGORIES:Committee Meetings
ATTACH;FMTTYPE=image/jpeg:https://archersofraunds.co.uk/wp-content/uploads/2019/09/sports-college.jpg
ORGANIZER;CN="Cate Bromley":MAILTO:chair@archersofraunds.co.uk
END:VEVENT
BEGIN:VEVENT
DTSTART;TZID=Europe/London:20240422T193000
DTEND;TZID=Europe/London:20240422T220000
DTSTAMP:20260422T101952
CREATED:20230616T111737Z
LAST-MODIFIED:20230616T111801Z
UID:23119-1713814200-1713823200@archersofraunds.co.uk
SUMMARY:AGM Meeting
DESCRIPTION:AGM
URL:https://archersofraunds.co.uk/event/agm-meeting-copy/
LOCATION:Archers of Raunds – Coaching\, Manor School Sports College\, Mountbatten Way\, Raunds\, NN9 6PA\, United Kingdom
CATEGORIES:Committee Meetings
ATTACH;FMTTYPE=image/jpeg:https://archersofraunds.co.uk/wp-content/uploads/2019/09/sports-college.jpg
ORGANIZER;CN="Cate Bromley":MAILTO:chair@archersofraunds.co.uk
END:VEVENT
BEGIN:VEVENT
DTSTART;TZID=Europe/London:20240318T200000
DTEND;TZID=Europe/London:20240318T220000
DTSTAMP:20260422T101952
CREATED:20230616T112245Z
LAST-MODIFIED:20240312T130732Z
UID:23112-1710792000-1710799200@archersofraunds.co.uk
SUMMARY:Committee Meeting
DESCRIPTION:Discuss club matters
URL:https://archersofraunds.co.uk/event/committee-meeting-24/
LOCATION:Archers of Raunds – Coaching\, Manor School Sports College\, Mountbatten Way\, Raunds\, NN9 6PA\, United Kingdom
CATEGORIES:Committee Meetings
ATTACH;FMTTYPE=image/jpeg:https://archersofraunds.co.uk/wp-content/uploads/2019/09/sports-college.jpg
ORGANIZER;CN="Cate Bromley":MAILTO:chair@archersofraunds.co.uk
END:VEVENT
BEGIN:VEVENT
DTSTART;TZID=Europe/London:20240219T200000
DTEND;TZID=Europe/London:20240219T220000
DTSTAMP:20260422T101952
CREATED:20240215T150333Z
LAST-MODIFIED:20240215T150333Z
UID:23863-1708372800-1708380000@archersofraunds.co.uk
SUMMARY:Committee Meeting
DESCRIPTION:Discuss club matters
URL:https://archersofraunds.co.uk/event/committee-meeting-25/
LOCATION:Archers of Raunds – Coaching\, Manor School Sports College\, Mountbatten Way\, Raunds\, NN9 6PA\, United Kingdom
CATEGORIES:Committee Meetings
ATTACH;FMTTYPE=image/jpeg:https://archersofraunds.co.uk/wp-content/uploads/2019/09/sports-college.jpg
ORGANIZER;CN="Cate Bromley":MAILTO:chair@archersofraunds.co.uk
END:VEVENT
BEGIN:VEVENT
DTSTART;TZID=Europe/London:20240129T200000
DTEND;TZID=Europe/London:20240129T220000
DTSTAMP:20260422T101952
CREATED:20230616T112208Z
LAST-MODIFIED:20230616T112208Z
UID:23113-1706558400-1706565600@archersofraunds.co.uk
SUMMARY:Committee Meeting
DESCRIPTION:Discuss club matters
URL:https://archersofraunds.co.uk/event/committee-meeting-23/
LOCATION:Archers of Raunds – Coaching\, Manor School Sports College\, Mountbatten Way\, Raunds\, NN9 6PA\, United Kingdom
CATEGORIES:Committee Meetings
ATTACH;FMTTYPE=image/jpeg:https://archersofraunds.co.uk/wp-content/uploads/2019/09/sports-college.jpg
ORGANIZER;CN="Cate Bromley":MAILTO:chair@archersofraunds.co.uk
END:VEVENT
BEGIN:VEVENT
DTSTART;TZID=Europe/London:20231218T200000
DTEND;TZID=Europe/London:20231218T220000
DTSTAMP:20260422T101952
CREATED:20230616T112121Z
LAST-MODIFIED:20230616T112121Z
UID:23114-1702929600-1702936800@archersofraunds.co.uk
SUMMARY:Committee Meeting
DESCRIPTION:Discuss club matters
URL:https://archersofraunds.co.uk/event/committee-meeting-22/
LOCATION:Archers of Raunds – Coaching\, Manor School Sports College\, Mountbatten Way\, Raunds\, NN9 6PA\, United Kingdom
CATEGORIES:Committee Meetings
ATTACH;FMTTYPE=image/jpeg:https://archersofraunds.co.uk/wp-content/uploads/2019/09/sports-college.jpg
ORGANIZER;CN="Cate Bromley":MAILTO:chair@archersofraunds.co.uk
END:VEVENT
BEGIN:VEVENT
DTSTART;TZID=Europe/London:20231106T200000
DTEND;TZID=Europe/London:20231106T220000
DTSTAMP:20260422T101952
CREATED:20230616T112041Z
LAST-MODIFIED:20230616T112041Z
UID:23115-1699300800-1699308000@archersofraunds.co.uk
SUMMARY:Committee Meeting
DESCRIPTION:Discuss club matters
URL:https://archersofraunds.co.uk/event/committee-meeting-21/
LOCATION:Archers of Raunds – Coaching\, Manor School Sports College\, Mountbatten Way\, Raunds\, NN9 6PA\, United Kingdom
CATEGORIES:Committee Meetings
ATTACH;FMTTYPE=image/jpeg:https://archersofraunds.co.uk/wp-content/uploads/2019/09/sports-college.jpg
ORGANIZER;CN="Cate Bromley":MAILTO:chair@archersofraunds.co.uk
END:VEVENT
BEGIN:VEVENT
DTSTART;TZID=Europe/London:20230925T200000
DTEND;TZID=Europe/London:20230925T220000
DTSTAMP:20260422T101952
CREATED:20230616T111955Z
LAST-MODIFIED:20230616T111955Z
UID:23116-1695672000-1695679200@archersofraunds.co.uk
SUMMARY:Committee Meeting
DESCRIPTION:Discuss club matters
URL:https://archersofraunds.co.uk/event/committee-meeting-20/
LOCATION:Archers of Raunds – Coaching\, Manor School Sports College\, Mountbatten Way\, Raunds\, NN9 6PA\, United Kingdom
CATEGORIES:Committee Meetings
ATTACH;FMTTYPE=image/jpeg:https://archersofraunds.co.uk/wp-content/uploads/2019/09/sports-college.jpg
ORGANIZER;CN="Cate Bromley":MAILTO:chair@archersofraunds.co.uk
END:VEVENT
BEGIN:VEVENT
DTSTART;TZID=Europe/London:20230807T200000
DTEND;TZID=Europe/London:20230807T220000
DTSTAMP:20260422T101952
CREATED:20230616T111915Z
LAST-MODIFIED:20230616T111915Z
UID:23117-1691438400-1691445600@archersofraunds.co.uk
SUMMARY:Committee Meeting
DESCRIPTION:Discuss club matters
URL:https://archersofraunds.co.uk/event/committee-meeting-19/
LOCATION:Archers of Raunds – Coaching\, Manor School Sports College\, Mountbatten Way\, Raunds\, NN9 6PA\, United Kingdom
CATEGORIES:Committee Meetings
ATTACH;FMTTYPE=image/jpeg:https://archersofraunds.co.uk/wp-content/uploads/2019/09/sports-college.jpg
ORGANIZER;CN="Cate Bromley":MAILTO:chair@archersofraunds.co.uk
END:VEVENT
BEGIN:VEVENT
DTSTART;TZID=Europe/London:20230703T200000
DTEND;TZID=Europe/London:20230703T220000
DTSTAMP:20260422T101952
CREATED:20230616T111839Z
LAST-MODIFIED:20230623T145142Z
UID:23118-1688414400-1688421600@archersofraunds.co.uk
SUMMARY:Committee Meeting
DESCRIPTION:Discuss club matters
URL:https://archersofraunds.co.uk/event/committee-meeting-18/
LOCATION:Archers of Raunds – Coaching\, Manor School Sports College\, Mountbatten Way\, Raunds\, NN9 6PA\, United Kingdom
CATEGORIES:Committee Meetings
ATTACH;FMTTYPE=image/jpeg:https://archersofraunds.co.uk/wp-content/uploads/2019/09/sports-college.jpg
ORGANIZER;CN="Cate Bromley":MAILTO:chair@archersofraunds.co.uk
END:VEVENT
BEGIN:VEVENT
DTSTART;TZID=Europe/London:20230503T193000
DTEND;TZID=Europe/London:20230503T220000
DTSTAMP:20260422T101952
CREATED:20220622T100507Z
LAST-MODIFIED:20230503T122059Z
UID:21231-1683142200-1683151200@archersofraunds.co.uk
SUMMARY:AGM Meeting
DESCRIPTION:AGM
URL:https://archersofraunds.co.uk/event/agm-meeting-2/
LOCATION:Archers of Raunds – Coaching\, Manor School Sports College\, Mountbatten Way\, Raunds\, NN9 6PA\, United Kingdom
CATEGORIES:Committee Meetings
ATTACH;FMTTYPE=image/jpeg:https://archersofraunds.co.uk/wp-content/uploads/2019/09/sports-college.jpg
ORGANIZER;CN="Cate Bromley":MAILTO:chair@archersofraunds.co.uk
END:VEVENT
BEGIN:VEVENT
DTSTART;TZID=Europe/London:20230313T200000
DTEND;TZID=Europe/London:20230313T220000
DTSTAMP:20260422T101952
CREATED:20220622T100347Z
LAST-MODIFIED:20230306T132027Z
UID:21217-1678737600-1678744800@archersofraunds.co.uk
SUMMARY:Committee Meeting
DESCRIPTION:Discuss club matters
URL:https://archersofraunds.co.uk/event/committee-meeting-17/
LOCATION:Archers of Raunds – Coaching\, Manor School Sports College\, Mountbatten Way\, Raunds\, NN9 6PA\, United Kingdom
CATEGORIES:Committee Meetings
ATTACH;FMTTYPE=image/jpeg:https://archersofraunds.co.uk/wp-content/uploads/2019/09/sports-college.jpg
ORGANIZER;CN="Cate Bromley":MAILTO:chair@archersofraunds.co.uk
END:VEVENT
BEGIN:VEVENT
DTSTART;TZID=Europe/London:20230123T200000
DTEND;TZID=Europe/London:20230123T220000
DTSTAMP:20260422T101952
CREATED:20220622T100311Z
LAST-MODIFIED:20220622T100311Z
UID:21218-1674504000-1674511200@archersofraunds.co.uk
SUMMARY:Committee Meeting
DESCRIPTION:Discuss club matters
URL:https://archersofraunds.co.uk/event/committee-meeting-16/
LOCATION:Archers of Raunds – Coaching\, Manor School Sports College\, Mountbatten Way\, Raunds\, NN9 6PA\, United Kingdom
CATEGORIES:Committee Meetings
ATTACH;FMTTYPE=image/jpeg:https://archersofraunds.co.uk/wp-content/uploads/2019/09/sports-college.jpg
ORGANIZER;CN="Cate Bromley":MAILTO:chair@archersofraunds.co.uk
END:VEVENT
BEGIN:VEVENT
DTSTART;TZID=Europe/London:20221214T200000
DTEND;TZID=Europe/London:20221214T220000
DTSTAMP:20260422T101952
CREATED:20220622T100237Z
LAST-MODIFIED:20221212T091524Z
UID:21219-1671048000-1671055200@archersofraunds.co.uk
SUMMARY:Committee Meeting
DESCRIPTION:Discuss club matters
URL:https://archersofraunds.co.uk/event/committee-meeting-15/
LOCATION:Archers of Raunds – Coaching\, Manor School Sports College\, Mountbatten Way\, Raunds\, NN9 6PA\, United Kingdom
CATEGORIES:Committee Meetings
ATTACH;FMTTYPE=image/jpeg:https://archersofraunds.co.uk/wp-content/uploads/2019/09/sports-college.jpg
ORGANIZER;CN="Cate Bromley":MAILTO:chair@archersofraunds.co.uk
END:VEVENT
BEGIN:VEVENT
DTSTART;TZID=Europe/London:20221107T200000
DTEND;TZID=Europe/London:20221107T220000
DTSTAMP:20260422T101952
CREATED:20220622T095906Z
LAST-MODIFIED:20220622T095906Z
UID:21220-1667851200-1667858400@archersofraunds.co.uk
SUMMARY:Committee Meeting
DESCRIPTION:Discuss club matters
URL:https://archersofraunds.co.uk/event/committee-meeting-14/
LOCATION:Archers of Raunds – Coaching\, Manor School Sports College\, Mountbatten Way\, Raunds\, NN9 6PA\, United Kingdom
CATEGORIES:Committee Meetings
ATTACH;FMTTYPE=image/jpeg:https://archersofraunds.co.uk/wp-content/uploads/2019/09/sports-college.jpg
ORGANIZER;CN="Cate Bromley":MAILTO:chair@archersofraunds.co.uk
END:VEVENT
END:VCALENDAR