BEGIN:VCALENDAR
VERSION:2.0
PRODID:-//Archers of Raunds - ECPv6.15.17//NONSGML v1.0//EN
CALSCALE:GREGORIAN
METHOD:PUBLISH
X-ORIGINAL-URL:https://archersofraunds.co.uk
X-WR-CALDESC:Events for Archers of Raunds
REFRESH-INTERVAL;VALUE=DURATION:PT1H
X-Robots-Tag:noindex
X-PUBLISHED-TTL:PT1H
BEGIN:VTIMEZONE
TZID:Europe/London
BEGIN:DAYLIGHT
TZOFFSETFROM:+0000
TZOFFSETTO:+0100
TZNAME:BST
DTSTART:20250330T010000
END:DAYLIGHT
BEGIN:STANDARD
TZOFFSETFROM:+0100
TZOFFSETTO:+0000
TZNAME:GMT
DTSTART:20251026T010000
END:STANDARD
BEGIN:DAYLIGHT
TZOFFSETFROM:+0000
TZOFFSETTO:+0100
TZNAME:BST
DTSTART:20260329T010000
END:DAYLIGHT
BEGIN:STANDARD
TZOFFSETFROM:+0100
TZOFFSETTO:+0000
TZNAME:GMT
DTSTART:20261025T010000
END:STANDARD
BEGIN:DAYLIGHT
TZOFFSETFROM:+0000
TZOFFSETTO:+0100
TZNAME:BST
DTSTART:20270328T010000
END:DAYLIGHT
BEGIN:STANDARD
TZOFFSETFROM:+0100
TZOFFSETTO:+0000
TZNAME:GMT
DTSTART:20271031T010000
END:STANDARD
END:VTIMEZONE
BEGIN:VEVENT
DTSTART;TZID=Europe/London:20260221T130000
DTEND;TZID=Europe/London:20260221T170000
DTSTAMP:20260425T125903
CREATED:20251002T110938Z
LAST-MODIFIED:20251002T110938Z
UID:29678-1771678800-1771693200@archersofraunds.co.uk
SUMMARY:Scoring Round: Vegas 300
DESCRIPTION:It will be a Vegas Round so will be as follows: \nDistance: 18m – Arrows: 2.5 Dozen Arrows  – Target Face: 40cm Triangle Spot or 40cm face – 10 zone scoring \nThere will be two sighter ends consisting of 3 arrows per end.  All ends will be 3 arrows per end and shot within two minutes using Timing Method 2 . \nA Vegas 300 round is shot on a special face containing three 40cm sized faces arranged in a triangle (or a single 40cm face)\, however the outer 5 scoring zones (from blue 5 out to white 1) are removed\, each target is numbered. \nArrows must be numbered and shot in ascending numerical sequence shooting at each target in the correct numerical sequence. \nLike the Worcester\, targets are placed one above the other and 15 arrows are shot at the first faces followed by 15 arrows at the second face. \nSighters will commence at 13:15 and the scoring round will be 13:25. \nLate arrivals will not be able to participate in the scoring round and may need to set up separate bosses (subject to room and availability) whilst the scoring round archers are scoring. \nIf you are not participating in the scoring round then you must not hold up the shooting line!
URL:https://archersofraunds.co.uk/event/scoring-round-vegas-300-9/
LOCATION:Archers of Raunds – Scoring Rounds\, Manor School Sports College\, Mountbatten Way\, Raunds\, NN9 6PA\, United Kingdom
CATEGORIES:Scoring Round
END:VEVENT
END:VCALENDAR