BEGIN:VCALENDAR
VERSION:2.0
PRODID:-//Archers of Raunds - ECPv6.15.17//NONSGML v1.0//EN
CALSCALE:GREGORIAN
METHOD:PUBLISH
X-WR-CALNAME:Archers of Raunds
X-ORIGINAL-URL:https://archersofraunds.co.uk
X-WR-CALDESC:Events for Archers of Raunds
REFRESH-INTERVAL;VALUE=DURATION:PT1H
X-Robots-Tag:noindex
X-PUBLISHED-TTL:PT1H
BEGIN:VTIMEZONE
TZID:Europe/London
BEGIN:DAYLIGHT
TZOFFSETFROM:+0000
TZOFFSETTO:+0100
TZNAME:BST
DTSTART:20250330T010000
END:DAYLIGHT
BEGIN:STANDARD
TZOFFSETFROM:+0100
TZOFFSETTO:+0000
TZNAME:GMT
DTSTART:20251026T010000
END:STANDARD
BEGIN:DAYLIGHT
TZOFFSETFROM:+0000
TZOFFSETTO:+0100
TZNAME:BST
DTSTART:20260329T010000
END:DAYLIGHT
BEGIN:STANDARD
TZOFFSETFROM:+0100
TZOFFSETTO:+0000
TZNAME:GMT
DTSTART:20261025T010000
END:STANDARD
BEGIN:DAYLIGHT
TZOFFSETFROM:+0000
TZOFFSETTO:+0100
TZNAME:BST
DTSTART:20270328T010000
END:DAYLIGHT
BEGIN:STANDARD
TZOFFSETFROM:+0100
TZOFFSETTO:+0000
TZNAME:GMT
DTSTART:20271031T010000
END:STANDARD
END:VTIMEZONE
BEGIN:VEVENT
DTSTART;TZID=Europe/London:20260131T130000
DTEND;TZID=Europe/London:20260131T170000
DTSTAMP:20260425T125253
CREATED:20251210T180110Z
LAST-MODIFIED:20251210T180110Z
UID:29767-1769864400-1769878800@archersofraunds.co.uk
SUMMARY:Scoring Round: Worcester
DESCRIPTION:It will be a Worcester Round so will be as follows: \nDistance: 20yds (18m) – Arrows: 5 Dozen Arrows  – Target Face: Special 16″ Black and White – 5 zone scoring \nThere will be one sighter end consisting of 5 arrows per end.  All ends will be 5 arrows per end. \nA Worcester round uses a special black and white face\, containing 4 black rings scoring 1 through to 4 and the centre white scoring 5. \nThe Worcester round is shot at 2 faces\, one above the other. You shoot your first 30 arrows at one face and the next 30 at the other. \nThere is no set order to shooting either top or bottom\, however 2 archers can share a pair of targets\, with one archer shooting at one face and the other archer shooting at the other face\, swapping after 30 arrows. You do not get any further sighter arrows when you swap faces. \nFor compound archers\, there is also 5 spot face scoring zones 5 and 4 only. This is to help prevent arrow damage and wear on the targets \nSighters will commence at 13:15 and the scoring round will be 13:25. \nLate arrivals will not be able to participate in the scoring round and may need to set up separate bosses (subject to room and availability) whilst the scoring round archers are scoring. \nIf you are not participating in the scoring round then you must not hold up the shooting line!
URL:https://archersofraunds.co.uk/event/scoring-round-worcester-19/
LOCATION:Archers of Raunds – Scoring Rounds\, Manor School Sports College\, Mountbatten Way\, Raunds\, NN9 6PA\, United Kingdom
CATEGORIES:Scoring Round
END:VEVENT
END:VCALENDAR